BEGIN:VCALENDAR
VERSION:2.0
PRODID:-//hacksw/handcal//NONSGML v1.0//EN
CALSCALE:GREGORIAN
BEGIN:VTIMEZONE
TZID:Europe/Berlin
X-LIC-LOCATION:Europe/Berlin
BEGIN:DAYLIGHT
TZOFFSETFROM:+0100
TZOFFSETTO:+0200
TZNAME:CEST
DTSTART:19700329T020000
RRULE:FREQ=YEARLY;BYDAY=-1SU;BYMONTH=3
END:DAYLIGHT
BEGIN:STANDARD
TZOFFSETFROM:+0200
TZOFFSETTO:+0100
TZNAME:CET
DTSTART:19701025T030000
RRULE:FREQ=YEARLY;BYDAY=-1SU;BYMONTH=10
END:STANDARD
END:VTIMEZONE
BEGIN:VEVENT
DTEND;TZID=Europe/Berlin:20260420T200000
UID:69e5e31d69dae
DTSTAMP:20260420T102605
LOCATION:Kinder- und Jugendhaus Alte Feuerwache (Johannisstraße 5\, 61231 Bad Nauheim)
DESCRIPTION:"Nail Your Art" - Ein kreativer Workshop in dem ihr unter Anleitung Nägel in ein Holzbrett klopft\, um diese anschließend mit Fäden zu verbinden. So entsteht die Optik einer tollen 3D-Blume. Am Ende nimmst du dein einzigartiges Nagelbild mit nach Hause\, das dein Zimmer verschönert oder ein tolles Geschenk abgibt.\r\nPlätze sind begrenzt – sichere dir jetzt deinen Platz!
URL;VALUE=URI:https://www.unser-ferienprogramm.de/bad-nauheim/veranstaltung.php?id=311640
SUMMARY:Nail Your Art! Blumenbild aus Nägeln und Faden - Special im Mädchen*Treff
DTSTART;TZID=Europe/Berlin:20260420T180000
END:VEVENT

END:VCALENDAR
