BEGIN:VCALENDAR
VERSION:2.0
PRODID:-//hacksw/handcal//NONSGML v1.0//EN
CALSCALE:GREGORIAN
BEGIN:VTIMEZONE
TZID:Europe/Berlin
X-LIC-LOCATION:Europe/Berlin
BEGIN:DAYLIGHT
TZOFFSETFROM:+0100
TZOFFSETTO:+0200
TZNAME:CEST
DTSTART:19700329T020000
RRULE:FREQ=YEARLY;BYDAY=-1SU;BYMONTH=3
END:DAYLIGHT
BEGIN:STANDARD
TZOFFSETFROM:+0200
TZOFFSETTO:+0100
TZNAME:CET
DTSTART:19701025T030000
RRULE:FREQ=YEARLY;BYDAY=-1SU;BYMONTH=10
END:STANDARD
END:VTIMEZONE
BEGIN:VEVENT
DTEND;TZID=Europe/Berlin:20260727T150000
UID:69e5fc122de26
DTSTAMP:20260420T121234
LOCATION:Kinder- und Jugendhaus Alte Feuerwache (Johannisstraße 5\, 61231 Bad Nauheim)
DESCRIPTION:Zwischen Schule\, Freundschaften und Zukunftsfragen stehen Jugendliche oft vor großen inneren und äußeren Herausforderungen. In unserem Theaterworkshop erhalten sie die Möglichkeit\, sich spielerisch mit ihren Gefühlen auseinanderzusetzen und neue Seiten an sich selbst zu entdecken.\r\nIn einer kleinen Gruppe von maximal 12 Teilnehmenden arbeiten wir 4 Tage lang jeweils 6 Stunden mit theaterpädagogischen und performativen Methoden. Durch Improvisation\, szenische Übungen\, Körperarbeit und kreative Reflexion lernen die Jugendlichen\r\nihre Gefühle bewusster wahrzunehmen\, sich klarer auszudrücken\, Selbstvertrauen zu entwickeln und ihre eigene Wirkung auf andere zu erleben\r\nEs gibt kein „richtig“ oder „falsch“\, sondern Raum zum Ausprobieren\, Entdecken und Wachsen.
URL;VALUE=URI:https://www.unser-ferienprogramm.de/bad-nauheim/veranstaltung.php?id=311639
SUMMARY:Bühne frei! Theaterworkshop für Jugendliche in den Sommerferien
DTSTART;TZID=Europe/Berlin:20260727T090000
END:VEVENT


BEGIN:VEVENT
DTEND;TZID=Europe/Berlin:20260728T150000
UID:69e5fc122de6e1
DTSTAMP:20260420T121234
LOCATION:Kinder- und Jugendhaus Alte Feuerwache (Johannisstraße 5\, 61231 Bad Nauheim)
DESCRIPTION:Zwischen Schule\, Freundschaften und Zukunftsfragen stehen Jugendliche oft vor großen inneren und äußeren Herausforderungen. In unserem Theaterworkshop erhalten sie die Möglichkeit\, sich spielerisch mit ihren Gefühlen auseinanderzusetzen und neue Seiten an sich selbst zu entdecken.\r\nIn einer kleinen Gruppe von maximal 12 Teilnehmenden arbeiten wir 4 Tage lang jeweils 6 Stunden mit theaterpädagogischen und performativen Methoden. Durch Improvisation\, szenische Übungen\, Körperarbeit und kreative Reflexion lernen die Jugendlichen\r\nihre Gefühle bewusster wahrzunehmen\, sich klarer auszudrücken\, Selbstvertrauen zu entwickeln und ihre eigene Wirkung auf andere zu erleben\r\nEs gibt kein „richtig“ oder „falsch“\, sondern Raum zum Ausprobieren\, Entdecken und Wachsen.
URL;VALUE=URI:https://www.unser-ferienprogramm.de/bad-nauheim/veranstaltung.php?id=311639
SUMMARY:Bühne frei! Theaterworkshop für Jugendliche in den Sommerferien
DTSTART;TZID=Europe/Berlin:20260728T090000
END:VEVENT


BEGIN:VEVENT
DTEND;TZID=Europe/Berlin:20260729T150000
UID:69e5fc122de7f2
DTSTAMP:20260420T121234
LOCATION:Kinder- und Jugendhaus Alte Feuerwache (Johannisstraße 5\, 61231 Bad Nauheim)
DESCRIPTION:Zwischen Schule\, Freundschaften und Zukunftsfragen stehen Jugendliche oft vor großen inneren und äußeren Herausforderungen. In unserem Theaterworkshop erhalten sie die Möglichkeit\, sich spielerisch mit ihren Gefühlen auseinanderzusetzen und neue Seiten an sich selbst zu entdecken.\r\nIn einer kleinen Gruppe von maximal 12 Teilnehmenden arbeiten wir 4 Tage lang jeweils 6 Stunden mit theaterpädagogischen und performativen Methoden. Durch Improvisation\, szenische Übungen\, Körperarbeit und kreative Reflexion lernen die Jugendlichen\r\nihre Gefühle bewusster wahrzunehmen\, sich klarer auszudrücken\, Selbstvertrauen zu entwickeln und ihre eigene Wirkung auf andere zu erleben\r\nEs gibt kein „richtig“ oder „falsch“\, sondern Raum zum Ausprobieren\, Entdecken und Wachsen.
URL;VALUE=URI:https://www.unser-ferienprogramm.de/bad-nauheim/veranstaltung.php?id=311639
SUMMARY:Bühne frei! Theaterworkshop für Jugendliche in den Sommerferien
DTSTART;TZID=Europe/Berlin:20260729T090000
END:VEVENT


BEGIN:VEVENT
DTEND;TZID=Europe/Berlin:20260730T150000
UID:69e5fc122de8e3
DTSTAMP:20260420T121234
LOCATION:Kinder- und Jugendhaus Alte Feuerwache (Johannisstraße 5\, 61231 Bad Nauheim)
DESCRIPTION:Zwischen Schule\, Freundschaften und Zukunftsfragen stehen Jugendliche oft vor großen inneren und äußeren Herausforderungen. In unserem Theaterworkshop erhalten sie die Möglichkeit\, sich spielerisch mit ihren Gefühlen auseinanderzusetzen und neue Seiten an sich selbst zu entdecken.\r\nIn einer kleinen Gruppe von maximal 12 Teilnehmenden arbeiten wir 4 Tage lang jeweils 6 Stunden mit theaterpädagogischen und performativen Methoden. Durch Improvisation\, szenische Übungen\, Körperarbeit und kreative Reflexion lernen die Jugendlichen\r\nihre Gefühle bewusster wahrzunehmen\, sich klarer auszudrücken\, Selbstvertrauen zu entwickeln und ihre eigene Wirkung auf andere zu erleben\r\nEs gibt kein „richtig“ oder „falsch“\, sondern Raum zum Ausprobieren\, Entdecken und Wachsen.
URL;VALUE=URI:https://www.unser-ferienprogramm.de/bad-nauheim/veranstaltung.php?id=311639
SUMMARY:Bühne frei! Theaterworkshop für Jugendliche in den Sommerferien
DTSTART;TZID=Europe/Berlin:20260730T090000
END:VEVENT

END:VCALENDAR
