BEGIN:VCALENDAR
VERSION:2.0
PRODID:-//hacksw/handcal//NONSGML v1.0//EN
CALSCALE:GREGORIAN
BEGIN:VTIMEZONE
TZID:Europe/Berlin
X-LIC-LOCATION:Europe/Berlin
BEGIN:DAYLIGHT
TZOFFSETFROM:+0100
TZOFFSETTO:+0200
TZNAME:CEST
DTSTART:19700329T020000
RRULE:FREQ=YEARLY;BYDAY=-1SU;BYMONTH=3
END:DAYLIGHT
BEGIN:STANDARD
TZOFFSETFROM:+0200
TZOFFSETTO:+0100
TZNAME:CET
DTSTART:19701025T030000
RRULE:FREQ=YEARLY;BYDAY=-1SU;BYMONTH=10
END:STANDARD
END:VTIMEZONE
BEGIN:VEVENT
DTEND;TZID=Europe/Berlin:20260629T120000
UID:69e5fbca24029
DTSTAMP:20260420T121122
LOCATION:Kinder- und Jugendhaus Alte Feuerwache (Johannisstraße 5\, 61231 Bad Nauheim)
DESCRIPTION:Unsere Kursleitungen Mel und Tamara haben sich in diesem Jahr etwas ganz Besonderes ausgedacht: Einen mehrtägigen Kreativkurs in den Sommerferien! \r\nGebastelt wird sich quer durchs Kreativlager. Von Mixed Media\, über Fimo und weitere Materialien ist alles dabei. \r\n\r\nMeldet euch an für dreitägigen unvergesslichen Bastelspaß.
URL;VALUE=URI:https://www.unser-ferienprogramm.de/bad-nauheim/veranstaltung.php?id=311634
SUMMARY:Kreativkurs Kunterbunt 1 
DTSTART;TZID=Europe/Berlin:20260629T090000
END:VEVENT


BEGIN:VEVENT
DTEND;TZID=Europe/Berlin:20260630T120000
UID:69e5fbca2406f1
DTSTAMP:20260420T121122
LOCATION:Kinder- und Jugendhaus Alte Feuerwache (Johannisstraße 5\, 61231 Bad Nauheim)
DESCRIPTION:Unsere Kursleitungen Mel und Tamara haben sich in diesem Jahr etwas ganz Besonderes ausgedacht: Einen mehrtägigen Kreativkurs in den Sommerferien! \r\nGebastelt wird sich quer durchs Kreativlager. Von Mixed Media\, über Fimo und weitere Materialien ist alles dabei. \r\n\r\nMeldet euch an für dreitägigen unvergesslichen Bastelspaß.
URL;VALUE=URI:https://www.unser-ferienprogramm.de/bad-nauheim/veranstaltung.php?id=311634
SUMMARY:Kreativkurs Kunterbunt 1 
DTSTART;TZID=Europe/Berlin:20260630T090000
END:VEVENT


BEGIN:VEVENT
DTEND;TZID=Europe/Berlin:20260701T120000
UID:69e5fbca2407c2
DTSTAMP:20260420T121122
LOCATION:Kinder- und Jugendhaus Alte Feuerwache (Johannisstraße 5\, 61231 Bad Nauheim)
DESCRIPTION:Unsere Kursleitungen Mel und Tamara haben sich in diesem Jahr etwas ganz Besonderes ausgedacht: Einen mehrtägigen Kreativkurs in den Sommerferien! \r\nGebastelt wird sich quer durchs Kreativlager. Von Mixed Media\, über Fimo und weitere Materialien ist alles dabei. \r\n\r\nMeldet euch an für dreitägigen unvergesslichen Bastelspaß.
URL;VALUE=URI:https://www.unser-ferienprogramm.de/bad-nauheim/veranstaltung.php?id=311634
SUMMARY:Kreativkurs Kunterbunt 1 
DTSTART;TZID=Europe/Berlin:20260701T090000
END:VEVENT

END:VCALENDAR
