BEGIN:VCALENDAR
VERSION:2.0
PRODID:-//hacksw/handcal//NONSGML v1.0//EN
CALSCALE:GREGORIAN
BEGIN:VTIMEZONE
TZID:Europe/Berlin
X-LIC-LOCATION:Europe/Berlin
BEGIN:DAYLIGHT
TZOFFSETFROM:+0100
TZOFFSETTO:+0200
TZNAME:CEST
DTSTART:19700329T020000
RRULE:FREQ=YEARLY;BYDAY=-1SU;BYMONTH=3
END:DAYLIGHT
BEGIN:STANDARD
TZOFFSETFROM:+0200
TZOFFSETTO:+0100
TZNAME:CET
DTSTART:19701025T030000
RRULE:FREQ=YEARLY;BYDAY=-1SU;BYMONTH=10
END:STANDARD
END:VTIMEZONE
BEGIN:VEVENT
DTEND;TZID=Europe/Berlin:20260418T220000
UID:69eb2858cec06
DTSTAMP:20260424T102248
LOCATION:Ehemalige Johanniskirche - Auguste-Victoria Straße 14\, 61231 Bad Nauheim
DESCRIPTION:Zum zweiten Mal lädt Smitty in seine wandernde Taverne ein und alle kleinen und großen Harry Potter Fans sind willkommen!\r\n\r\nIn der Taverne gibt es zahlreiche Rätsel zu lösen\, Zauber zu lernen und auch diesmal wird es einen Hauscup geben. Statisten helfen dabei\, einen spielerischen Zugang zum Rollenspiel zu finden\, aber niemand muss teilnehmen. Zuschauen und was Leckeres essen ist willkommen.\r\n\r\nOb mit oder ohne Kostüm\, Magier oder Muggel\, jeder kann die Taverne besuchen\, der Eintritt ist frei. Es gibt eine Auswahl an deftigen und süßen Snacks\, kalten und warmen Getränken. Deren Erlös und alle Spenden gehen an den Förderverein Inklusion e.V. in Bad Nauheim.\r\n\r\nWeitere Infos bekommen Sie bei Künstler & Bastelbedarf KELM und Crossroads Roleplay.\r\n\r\nMit der Anmeldung stimmen sie "Sicherheitsbestimmungen und Datenschutz" zu: https://acrobat.adobe.com/id/urn:aaid:sc:EU:097e5cba-a59b-4e21-aa74-15608f659df3
URL;VALUE=URI:https://www.unser-ferienprogramm.de/bad-nauheim/veranstaltung.php?id=305770
SUMMARY:Harry Potter Taverne
DTSTART;TZID=Europe/Berlin:20260418T180000
END:VEVENT

END:VCALENDAR
