BEGIN:VCALENDAR
VERSION:2.0
PRODID:-//hacksw/handcal//NONSGML v1.0//EN
CALSCALE:GREGORIAN
BEGIN:VTIMEZONE
TZID:Europe/Berlin
X-LIC-LOCATION:Europe/Berlin
BEGIN:DAYLIGHT
TZOFFSETFROM:+0100
TZOFFSETTO:+0200
TZNAME:CEST
DTSTART:19700329T020000
RRULE:FREQ=YEARLY;BYDAY=-1SU;BYMONTH=3
END:DAYLIGHT
BEGIN:STANDARD
TZOFFSETFROM:+0200
TZOFFSETTO:+0100
TZNAME:CET
DTSTART:19701025T030000
RRULE:FREQ=YEARLY;BYDAY=-1SU;BYMONTH=10
END:STANDARD
END:VTIMEZONE
BEGIN:VEVENT
DTEND;TZID=Europe/Berlin:20260629T150000
UID:69e5e2ecd7ebc
DTSTAMP:20260420T102516
LOCATION:Musikschule Bad Nauheim (Sprudelhof 11\, 61231 Bad Nauheim)
DESCRIPTION:In diesen musikalischen Ferienspielen erleben Kinder fünf abwechslungsreiche Tage voller Musik\, Bewegung und Kreativität. Gemeinsam mit erfahrenen Lehrerinnen der Elementaren Musikpädagogik wird gesungen\, getanzt\, gespielt\, gelauscht und ausprobiert.\r\n\r\nOb mit Stimme\, Instrumenten\, Bewegung oder kleinen Improvisationen – die Kinder entdecken Musik auf spielerische Weise\, stärken ihr Rhythmusgefühl und erleben\, wie viel Freude gemeinsames Musizieren macht. Fantasie\, Neugier und Spaß stehen dabei im Mittelpunkt. Als Abschluss der fünf Tage gibt es eine kleine Vorführung für die Eltern. \r\n\r\nDie Kinder können täglich flexibel zwischen 8:00 Uhr und 8:30 Uhr gebracht werden. Nach der flexiblen Bringzeit startet das Programm um 08:30 Uhr inhaltlich.\r\n\r\nEs sind keine musikalischen Vorkenntnisse erforderlich. Falls jedoch musikalische Vorerfahrungen bestehen / ein Instrument gelernt wird\, teilen Sie uns dies bei der Anmeldung gerne mit. \r\n\r\nDies ist ein Angebot der Musikschule Bad Nauheim gGmbH in Kooperation mit dem Kinder- und Jugendhaus der Stadt Bad Nauheim.
URL;VALUE=URI:https://www.unser-ferienprogramm.de/bad-nauheim/veranstaltung.php?id=297771
SUMMARY:Ferienaktion der Musikschule Bad Nauheim
DTSTART;TZID=Europe/Berlin:20260629T080000
END:VEVENT


BEGIN:VEVENT
DTEND;TZID=Europe/Berlin:20260630T150000
UID:69e5e2ecd7efa1
DTSTAMP:20260420T102516
LOCATION:Musikschule Bad Nauheim (Sprudelhof 11\, 61231 Bad Nauheim)
DESCRIPTION:In diesen musikalischen Ferienspielen erleben Kinder fünf abwechslungsreiche Tage voller Musik\, Bewegung und Kreativität. Gemeinsam mit erfahrenen Lehrerinnen der Elementaren Musikpädagogik wird gesungen\, getanzt\, gespielt\, gelauscht und ausprobiert.\r\n\r\nOb mit Stimme\, Instrumenten\, Bewegung oder kleinen Improvisationen – die Kinder entdecken Musik auf spielerische Weise\, stärken ihr Rhythmusgefühl und erleben\, wie viel Freude gemeinsames Musizieren macht. Fantasie\, Neugier und Spaß stehen dabei im Mittelpunkt. Als Abschluss der fünf Tage gibt es eine kleine Vorführung für die Eltern. \r\n\r\nDie Kinder können täglich flexibel zwischen 8:00 Uhr und 8:30 Uhr gebracht werden. Nach der flexiblen Bringzeit startet das Programm um 08:30 Uhr inhaltlich.\r\n\r\nEs sind keine musikalischen Vorkenntnisse erforderlich. Falls jedoch musikalische Vorerfahrungen bestehen / ein Instrument gelernt wird\, teilen Sie uns dies bei der Anmeldung gerne mit. \r\n\r\nDies ist ein Angebot der Musikschule Bad Nauheim gGmbH in Kooperation mit dem Kinder- und Jugendhaus der Stadt Bad Nauheim.
URL;VALUE=URI:https://www.unser-ferienprogramm.de/bad-nauheim/veranstaltung.php?id=297771
SUMMARY:Ferienaktion der Musikschule Bad Nauheim
DTSTART;TZID=Europe/Berlin:20260630T080000
END:VEVENT


BEGIN:VEVENT
DTEND;TZID=Europe/Berlin:20260701T150000
UID:69e5e2ecd7f0d2
DTSTAMP:20260420T102516
LOCATION:Musikschule Bad Nauheim (Sprudelhof 11\, 61231 Bad Nauheim)
DESCRIPTION:In diesen musikalischen Ferienspielen erleben Kinder fünf abwechslungsreiche Tage voller Musik\, Bewegung und Kreativität. Gemeinsam mit erfahrenen Lehrerinnen der Elementaren Musikpädagogik wird gesungen\, getanzt\, gespielt\, gelauscht und ausprobiert.\r\n\r\nOb mit Stimme\, Instrumenten\, Bewegung oder kleinen Improvisationen – die Kinder entdecken Musik auf spielerische Weise\, stärken ihr Rhythmusgefühl und erleben\, wie viel Freude gemeinsames Musizieren macht. Fantasie\, Neugier und Spaß stehen dabei im Mittelpunkt. Als Abschluss der fünf Tage gibt es eine kleine Vorführung für die Eltern. \r\n\r\nDie Kinder können täglich flexibel zwischen 8:00 Uhr und 8:30 Uhr gebracht werden. Nach der flexiblen Bringzeit startet das Programm um 08:30 Uhr inhaltlich.\r\n\r\nEs sind keine musikalischen Vorkenntnisse erforderlich. Falls jedoch musikalische Vorerfahrungen bestehen / ein Instrument gelernt wird\, teilen Sie uns dies bei der Anmeldung gerne mit. \r\n\r\nDies ist ein Angebot der Musikschule Bad Nauheim gGmbH in Kooperation mit dem Kinder- und Jugendhaus der Stadt Bad Nauheim.
URL;VALUE=URI:https://www.unser-ferienprogramm.de/bad-nauheim/veranstaltung.php?id=297771
SUMMARY:Ferienaktion der Musikschule Bad Nauheim
DTSTART;TZID=Europe/Berlin:20260701T080000
END:VEVENT


BEGIN:VEVENT
DTEND;TZID=Europe/Berlin:20260702T150000
UID:69e5e2ecd7f1c3
DTSTAMP:20260420T102516
LOCATION:Musikschule Bad Nauheim (Sprudelhof 11\, 61231 Bad Nauheim)
DESCRIPTION:In diesen musikalischen Ferienspielen erleben Kinder fünf abwechslungsreiche Tage voller Musik\, Bewegung und Kreativität. Gemeinsam mit erfahrenen Lehrerinnen der Elementaren Musikpädagogik wird gesungen\, getanzt\, gespielt\, gelauscht und ausprobiert.\r\n\r\nOb mit Stimme\, Instrumenten\, Bewegung oder kleinen Improvisationen – die Kinder entdecken Musik auf spielerische Weise\, stärken ihr Rhythmusgefühl und erleben\, wie viel Freude gemeinsames Musizieren macht. Fantasie\, Neugier und Spaß stehen dabei im Mittelpunkt. Als Abschluss der fünf Tage gibt es eine kleine Vorführung für die Eltern. \r\n\r\nDie Kinder können täglich flexibel zwischen 8:00 Uhr und 8:30 Uhr gebracht werden. Nach der flexiblen Bringzeit startet das Programm um 08:30 Uhr inhaltlich.\r\n\r\nEs sind keine musikalischen Vorkenntnisse erforderlich. Falls jedoch musikalische Vorerfahrungen bestehen / ein Instrument gelernt wird\, teilen Sie uns dies bei der Anmeldung gerne mit. \r\n\r\nDies ist ein Angebot der Musikschule Bad Nauheim gGmbH in Kooperation mit dem Kinder- und Jugendhaus der Stadt Bad Nauheim.
URL;VALUE=URI:https://www.unser-ferienprogramm.de/bad-nauheim/veranstaltung.php?id=297771
SUMMARY:Ferienaktion der Musikschule Bad Nauheim
DTSTART;TZID=Europe/Berlin:20260702T080000
END:VEVENT


BEGIN:VEVENT
DTEND;TZID=Europe/Berlin:20260703T150000
UID:69e5e2ecd7f2a4
DTSTAMP:20260420T102516
LOCATION:Musikschule Bad Nauheim (Sprudelhof 11\, 61231 Bad Nauheim)
DESCRIPTION:In diesen musikalischen Ferienspielen erleben Kinder fünf abwechslungsreiche Tage voller Musik\, Bewegung und Kreativität. Gemeinsam mit erfahrenen Lehrerinnen der Elementaren Musikpädagogik wird gesungen\, getanzt\, gespielt\, gelauscht und ausprobiert.\r\n\r\nOb mit Stimme\, Instrumenten\, Bewegung oder kleinen Improvisationen – die Kinder entdecken Musik auf spielerische Weise\, stärken ihr Rhythmusgefühl und erleben\, wie viel Freude gemeinsames Musizieren macht. Fantasie\, Neugier und Spaß stehen dabei im Mittelpunkt. Als Abschluss der fünf Tage gibt es eine kleine Vorführung für die Eltern. \r\n\r\nDie Kinder können täglich flexibel zwischen 8:00 Uhr und 8:30 Uhr gebracht werden. Nach der flexiblen Bringzeit startet das Programm um 08:30 Uhr inhaltlich.\r\n\r\nEs sind keine musikalischen Vorkenntnisse erforderlich. Falls jedoch musikalische Vorerfahrungen bestehen / ein Instrument gelernt wird\, teilen Sie uns dies bei der Anmeldung gerne mit. \r\n\r\nDies ist ein Angebot der Musikschule Bad Nauheim gGmbH in Kooperation mit dem Kinder- und Jugendhaus der Stadt Bad Nauheim.
URL;VALUE=URI:https://www.unser-ferienprogramm.de/bad-nauheim/veranstaltung.php?id=297771
SUMMARY:Ferienaktion der Musikschule Bad Nauheim
DTSTART;TZID=Europe/Berlin:20260703T080000
END:VEVENT

END:VCALENDAR
