BEGIN:VCALENDAR
VERSION:2.0
PRODID:-//hacksw/handcal//NONSGML v1.0//EN
CALSCALE:GREGORIAN
BEGIN:VTIMEZONE
TZID:Europe/Berlin
X-LIC-LOCATION:Europe/Berlin
BEGIN:DAYLIGHT
TZOFFSETFROM:+0100
TZOFFSETTO:+0200
TZNAME:CEST
DTSTART:19700329T020000
RRULE:FREQ=YEARLY;BYDAY=-1SU;BYMONTH=3
END:DAYLIGHT
BEGIN:STANDARD
TZOFFSETFROM:+0200
TZOFFSETTO:+0100
TZNAME:CET
DTSTART:19701025T030000
RRULE:FREQ=YEARLY;BYDAY=-1SU;BYMONTH=10
END:STANDARD
END:VTIMEZONE
BEGIN:VEVENT
DTEND;TZID=Europe/Berlin:20260803T160000
UID:69e6151ef0569
DTSTAMP:20260420T135926
LOCATION:Waldsportplatz (Rosbacher Straße 1\, 61231 Bad Nauheim)
DESCRIPTION:Dieses Angebot der Spätbetreuung bezieht sich auf die Sommerferienwoche 6 des Angebotes "Abenteuer Wald! Natur\, Action & Spiel!"\r\n\r\nWichtig: Sie müssen auch bei dem Hauptprogramm der Woche angemeldet sein\, um sich für die Spätbetreuung anzumelden. Eine Anmeldung zur Spätbetreuung bedeutet nicht die Anmeldung zum Programm "Abenteuer Wald"!
URL;VALUE=URI:https://www.unser-ferienprogramm.de/bad-nauheim/veranstaltung.php?id=296572
SUMMARY: Spätbetreuung: Abenteuer Wald! Natur\, Action & Spiel: Woche 6
DTSTART;TZID=Europe/Berlin:20260803T150000
END:VEVENT


BEGIN:VEVENT
DTEND;TZID=Europe/Berlin:20260804T160000
UID:69e6151ef05811
DTSTAMP:20260420T135926
LOCATION:Waldsportplatz (Rosbacher Straße 1\, 61231 Bad Nauheim)
DESCRIPTION:Dieses Angebot der Spätbetreuung bezieht sich auf die Sommerferienwoche 6 des Angebotes "Abenteuer Wald! Natur\, Action & Spiel!"\r\n\r\nWichtig: Sie müssen auch bei dem Hauptprogramm der Woche angemeldet sein\, um sich für die Spätbetreuung anzumelden. Eine Anmeldung zur Spätbetreuung bedeutet nicht die Anmeldung zum Programm "Abenteuer Wald"!
URL;VALUE=URI:https://www.unser-ferienprogramm.de/bad-nauheim/veranstaltung.php?id=296572
SUMMARY: Spätbetreuung: Abenteuer Wald! Natur\, Action & Spiel: Woche 6
DTSTART;TZID=Europe/Berlin:20260804T150000
END:VEVENT


BEGIN:VEVENT
DTEND;TZID=Europe/Berlin:20260805T160000
UID:69e6151ef058e2
DTSTAMP:20260420T135926
LOCATION:Waldsportplatz (Rosbacher Straße 1\, 61231 Bad Nauheim)
DESCRIPTION:Dieses Angebot der Spätbetreuung bezieht sich auf die Sommerferienwoche 6 des Angebotes "Abenteuer Wald! Natur\, Action & Spiel!"\r\n\r\nWichtig: Sie müssen auch bei dem Hauptprogramm der Woche angemeldet sein\, um sich für die Spätbetreuung anzumelden. Eine Anmeldung zur Spätbetreuung bedeutet nicht die Anmeldung zum Programm "Abenteuer Wald"!
URL;VALUE=URI:https://www.unser-ferienprogramm.de/bad-nauheim/veranstaltung.php?id=296572
SUMMARY: Spätbetreuung: Abenteuer Wald! Natur\, Action & Spiel: Woche 6
DTSTART;TZID=Europe/Berlin:20260805T150000
END:VEVENT


BEGIN:VEVENT
DTEND;TZID=Europe/Berlin:20260806T160000
UID:69e6151ef059a3
DTSTAMP:20260420T135926
LOCATION:Waldsportplatz (Rosbacher Straße 1\, 61231 Bad Nauheim)
DESCRIPTION:Dieses Angebot der Spätbetreuung bezieht sich auf die Sommerferienwoche 6 des Angebotes "Abenteuer Wald! Natur\, Action & Spiel!"\r\n\r\nWichtig: Sie müssen auch bei dem Hauptprogramm der Woche angemeldet sein\, um sich für die Spätbetreuung anzumelden. Eine Anmeldung zur Spätbetreuung bedeutet nicht die Anmeldung zum Programm "Abenteuer Wald"!
URL;VALUE=URI:https://www.unser-ferienprogramm.de/bad-nauheim/veranstaltung.php?id=296572
SUMMARY: Spätbetreuung: Abenteuer Wald! Natur\, Action & Spiel: Woche 6
DTSTART;TZID=Europe/Berlin:20260806T150000
END:VEVENT


BEGIN:VEVENT
DTEND;TZID=Europe/Berlin:20260807T160000
UID:69e6151ef05a44
DTSTAMP:20260420T135926
LOCATION:Waldsportplatz (Rosbacher Straße 1\, 61231 Bad Nauheim)
DESCRIPTION:Dieses Angebot der Spätbetreuung bezieht sich auf die Sommerferienwoche 6 des Angebotes "Abenteuer Wald! Natur\, Action & Spiel!"\r\n\r\nWichtig: Sie müssen auch bei dem Hauptprogramm der Woche angemeldet sein\, um sich für die Spätbetreuung anzumelden. Eine Anmeldung zur Spätbetreuung bedeutet nicht die Anmeldung zum Programm "Abenteuer Wald"!
URL;VALUE=URI:https://www.unser-ferienprogramm.de/bad-nauheim/veranstaltung.php?id=296572
SUMMARY: Spätbetreuung: Abenteuer Wald! Natur\, Action & Spiel: Woche 6
DTSTART;TZID=Europe/Berlin:20260807T150000
END:VEVENT

END:VCALENDAR
