BEGIN:VCALENDAR
VERSION:2.0
PRODID:-//hacksw/handcal//NONSGML v1.0//EN
CALSCALE:GREGORIAN
BEGIN:VTIMEZONE
TZID:Europe/Berlin
X-LIC-LOCATION:Europe/Berlin
BEGIN:DAYLIGHT
TZOFFSETFROM:+0100
TZOFFSETTO:+0200
TZNAME:CEST
DTSTART:19700329T020000
RRULE:FREQ=YEARLY;BYDAY=-1SU;BYMONTH=3
END:DAYLIGHT
BEGIN:STANDARD
TZOFFSETFROM:+0200
TZOFFSETTO:+0100
TZNAME:CET
DTSTART:19701025T030000
RRULE:FREQ=YEARLY;BYDAY=-1SU;BYMONTH=10
END:STANDARD
END:VTIMEZONE
BEGIN:VEVENT
DTEND;TZID=Europe/Berlin:20260727T160000
UID:69e5fd8120f2f
DTSTAMP:20260420T121841
LOCATION:Waldsportplatz (Rosbacher Straße 1\, 61231 Bad Nauheim)
DESCRIPTION:Dieses Angebot der Spätbetreuung bezieht sich auf die Sommerferienwoche 5 des Angebotes "Teamgeist gewinnt! Weltmeister:innen der Freundschaft."\r\n\r\nWichtig: Sie müssen auch bei dem Hauptprogramm der Woche angemeldet sein\, um sich für die Spätbetreuung anzumelden. Eine Anmeldung zur Spätbetreuung bedeutet nicht die Anmeldung zum Programm "Teamgeist gewinnt"!
URL;VALUE=URI:https://www.unser-ferienprogramm.de/bad-nauheim/veranstaltung.php?id=296570
SUMMARY:Spätbetreuung: Teamgeist gewinnt! Weltmeister:innen der Freundschaft: Woche 5
DTSTART;TZID=Europe/Berlin:20260727T150000
END:VEVENT


BEGIN:VEVENT
DTEND;TZID=Europe/Berlin:20260728T160000
UID:69e5fd8120f6b1
DTSTAMP:20260420T121841
LOCATION:Waldsportplatz (Rosbacher Straße 1\, 61231 Bad Nauheim)
DESCRIPTION:Dieses Angebot der Spätbetreuung bezieht sich auf die Sommerferienwoche 5 des Angebotes "Teamgeist gewinnt! Weltmeister:innen der Freundschaft."\r\n\r\nWichtig: Sie müssen auch bei dem Hauptprogramm der Woche angemeldet sein\, um sich für die Spätbetreuung anzumelden. Eine Anmeldung zur Spätbetreuung bedeutet nicht die Anmeldung zum Programm "Teamgeist gewinnt"!
URL;VALUE=URI:https://www.unser-ferienprogramm.de/bad-nauheim/veranstaltung.php?id=296570
SUMMARY:Spätbetreuung: Teamgeist gewinnt! Weltmeister:innen der Freundschaft: Woche 5
DTSTART;TZID=Europe/Berlin:20260728T150000
END:VEVENT


BEGIN:VEVENT
DTEND;TZID=Europe/Berlin:20260729T160000
UID:69e5fd8120f792
DTSTAMP:20260420T121841
LOCATION:Waldsportplatz (Rosbacher Straße 1\, 61231 Bad Nauheim)
DESCRIPTION:Dieses Angebot der Spätbetreuung bezieht sich auf die Sommerferienwoche 5 des Angebotes "Teamgeist gewinnt! Weltmeister:innen der Freundschaft."\r\n\r\nWichtig: Sie müssen auch bei dem Hauptprogramm der Woche angemeldet sein\, um sich für die Spätbetreuung anzumelden. Eine Anmeldung zur Spätbetreuung bedeutet nicht die Anmeldung zum Programm "Teamgeist gewinnt"!
URL;VALUE=URI:https://www.unser-ferienprogramm.de/bad-nauheim/veranstaltung.php?id=296570
SUMMARY:Spätbetreuung: Teamgeist gewinnt! Weltmeister:innen der Freundschaft: Woche 5
DTSTART;TZID=Europe/Berlin:20260729T150000
END:VEVENT


BEGIN:VEVENT
DTEND;TZID=Europe/Berlin:20260730T160000
UID:69e5fd8120f833
DTSTAMP:20260420T121841
LOCATION:Waldsportplatz (Rosbacher Straße 1\, 61231 Bad Nauheim)
DESCRIPTION:Dieses Angebot der Spätbetreuung bezieht sich auf die Sommerferienwoche 5 des Angebotes "Teamgeist gewinnt! Weltmeister:innen der Freundschaft."\r\n\r\nWichtig: Sie müssen auch bei dem Hauptprogramm der Woche angemeldet sein\, um sich für die Spätbetreuung anzumelden. Eine Anmeldung zur Spätbetreuung bedeutet nicht die Anmeldung zum Programm "Teamgeist gewinnt"!
URL;VALUE=URI:https://www.unser-ferienprogramm.de/bad-nauheim/veranstaltung.php?id=296570
SUMMARY:Spätbetreuung: Teamgeist gewinnt! Weltmeister:innen der Freundschaft: Woche 5
DTSTART;TZID=Europe/Berlin:20260730T150000
END:VEVENT


BEGIN:VEVENT
DTEND;TZID=Europe/Berlin:20260731T160000
UID:69e5fd8120f8d4
DTSTAMP:20260420T121841
LOCATION:Waldsportplatz (Rosbacher Straße 1\, 61231 Bad Nauheim)
DESCRIPTION:Dieses Angebot der Spätbetreuung bezieht sich auf die Sommerferienwoche 5 des Angebotes "Teamgeist gewinnt! Weltmeister:innen der Freundschaft."\r\n\r\nWichtig: Sie müssen auch bei dem Hauptprogramm der Woche angemeldet sein\, um sich für die Spätbetreuung anzumelden. Eine Anmeldung zur Spätbetreuung bedeutet nicht die Anmeldung zum Programm "Teamgeist gewinnt"!
URL;VALUE=URI:https://www.unser-ferienprogramm.de/bad-nauheim/veranstaltung.php?id=296570
SUMMARY:Spätbetreuung: Teamgeist gewinnt! Weltmeister:innen der Freundschaft: Woche 5
DTSTART;TZID=Europe/Berlin:20260731T150000
END:VEVENT

END:VCALENDAR
