BEGIN:VCALENDAR
VERSION:2.0
PRODID:-//hacksw/handcal//NONSGML v1.0//EN
CALSCALE:GREGORIAN
BEGIN:VTIMEZONE
TZID:Europe/Berlin
X-LIC-LOCATION:Europe/Berlin
BEGIN:DAYLIGHT
TZOFFSETFROM:+0100
TZOFFSETTO:+0200
TZNAME:CEST
DTSTART:19700329T020000
RRULE:FREQ=YEARLY;BYDAY=-1SU;BYMONTH=3
END:DAYLIGHT
BEGIN:STANDARD
TZOFFSETFROM:+0200
TZOFFSETTO:+0100
TZNAME:CET
DTSTART:19701025T030000
RRULE:FREQ=YEARLY;BYDAY=-1SU;BYMONTH=10
END:STANDARD
END:VTIMEZONE
BEGIN:VEVENT
DTEND;TZID=Europe/Berlin:20260720T160000
UID:69e615194ce37
DTSTAMP:20260420T135921
LOCATION:Goldsteinpark (Am Goldsteinpark\, 61231 Bad Nauheim)
DESCRIPTION:Dieses Angebot der Spätbetreuung bezieht sich auf die Sommerferienwoche 4 des Angebotes "Ferienspielzirkus"\r\n\r\nWichtig: Sie müssen auch bei dem Hauptprogramm der Woche angemeldet sein\, um sich für die Spätbetreuung anzumelden. Eine Anmeldung zur Spätbetreuung bedeutet nicht die Anmeldung zum Programm "Ferienspielzirkus"!
URL;VALUE=URI:https://www.unser-ferienprogramm.de/bad-nauheim/veranstaltung.php?id=296569
SUMMARY:Spätbetreuung: Ferienspielzirkus Woche 4 
DTSTART;TZID=Europe/Berlin:20260720T150000
END:VEVENT


BEGIN:VEVENT
DTEND;TZID=Europe/Berlin:20260721T160000
UID:69e615194ce7d1
DTSTAMP:20260420T135921
LOCATION:Goldsteinpark (Am Goldsteinpark\, 61231 Bad Nauheim)
DESCRIPTION:Dieses Angebot der Spätbetreuung bezieht sich auf die Sommerferienwoche 4 des Angebotes "Ferienspielzirkus"\r\n\r\nWichtig: Sie müssen auch bei dem Hauptprogramm der Woche angemeldet sein\, um sich für die Spätbetreuung anzumelden. Eine Anmeldung zur Spätbetreuung bedeutet nicht die Anmeldung zum Programm "Ferienspielzirkus"!
URL;VALUE=URI:https://www.unser-ferienprogramm.de/bad-nauheim/veranstaltung.php?id=296569
SUMMARY:Spätbetreuung: Ferienspielzirkus Woche 4 
DTSTART;TZID=Europe/Berlin:20260721T150000
END:VEVENT


BEGIN:VEVENT
DTEND;TZID=Europe/Berlin:20260722T160000
UID:69e615194ce8a2
DTSTAMP:20260420T135921
LOCATION:Goldsteinpark (Am Goldsteinpark\, 61231 Bad Nauheim)
DESCRIPTION:Dieses Angebot der Spätbetreuung bezieht sich auf die Sommerferienwoche 4 des Angebotes "Ferienspielzirkus"\r\n\r\nWichtig: Sie müssen auch bei dem Hauptprogramm der Woche angemeldet sein\, um sich für die Spätbetreuung anzumelden. Eine Anmeldung zur Spätbetreuung bedeutet nicht die Anmeldung zum Programm "Ferienspielzirkus"!
URL;VALUE=URI:https://www.unser-ferienprogramm.de/bad-nauheim/veranstaltung.php?id=296569
SUMMARY:Spätbetreuung: Ferienspielzirkus Woche 4 
DTSTART;TZID=Europe/Berlin:20260722T150000
END:VEVENT


BEGIN:VEVENT
DTEND;TZID=Europe/Berlin:20260723T160000
UID:69e615194ce943
DTSTAMP:20260420T135921
LOCATION:Goldsteinpark (Am Goldsteinpark\, 61231 Bad Nauheim)
DESCRIPTION:Dieses Angebot der Spätbetreuung bezieht sich auf die Sommerferienwoche 4 des Angebotes "Ferienspielzirkus"\r\n\r\nWichtig: Sie müssen auch bei dem Hauptprogramm der Woche angemeldet sein\, um sich für die Spätbetreuung anzumelden. Eine Anmeldung zur Spätbetreuung bedeutet nicht die Anmeldung zum Programm "Ferienspielzirkus"!
URL;VALUE=URI:https://www.unser-ferienprogramm.de/bad-nauheim/veranstaltung.php?id=296569
SUMMARY:Spätbetreuung: Ferienspielzirkus Woche 4 
DTSTART;TZID=Europe/Berlin:20260723T150000
END:VEVENT


BEGIN:VEVENT
DTEND;TZID=Europe/Berlin:20260724T160000
UID:69e615194ce9d4
DTSTAMP:20260420T135921
LOCATION:Goldsteinpark (Am Goldsteinpark\, 61231 Bad Nauheim)
DESCRIPTION:Dieses Angebot der Spätbetreuung bezieht sich auf die Sommerferienwoche 4 des Angebotes "Ferienspielzirkus"\r\n\r\nWichtig: Sie müssen auch bei dem Hauptprogramm der Woche angemeldet sein\, um sich für die Spätbetreuung anzumelden. Eine Anmeldung zur Spätbetreuung bedeutet nicht die Anmeldung zum Programm "Ferienspielzirkus"!
URL;VALUE=URI:https://www.unser-ferienprogramm.de/bad-nauheim/veranstaltung.php?id=296569
SUMMARY:Spätbetreuung: Ferienspielzirkus Woche 4 
DTSTART;TZID=Europe/Berlin:20260724T150000
END:VEVENT

END:VCALENDAR
