BEGIN:VCALENDAR
VERSION:2.0
PRODID:-//hacksw/handcal//NONSGML v1.0//EN
CALSCALE:GREGORIAN
BEGIN:VTIMEZONE
TZID:Europe/Berlin
X-LIC-LOCATION:Europe/Berlin
BEGIN:DAYLIGHT
TZOFFSETFROM:+0100
TZOFFSETTO:+0200
TZNAME:CEST
DTSTART:19700329T020000
RRULE:FREQ=YEARLY;BYDAY=-1SU;BYMONTH=3
END:DAYLIGHT
BEGIN:STANDARD
TZOFFSETFROM:+0200
TZOFFSETTO:+0100
TZNAME:CET
DTSTART:19701025T030000
RRULE:FREQ=YEARLY;BYDAY=-1SU;BYMONTH=10
END:STANDARD
END:VTIMEZONE
BEGIN:VEVENT
DTEND;TZID=Europe/Berlin:20260713T160000
UID:69e5fd8d9758b
DTSTAMP:20260420T121853
LOCATION:Goldsteinpark (Am Goldsteinpark\, 61231 Bad Nauheim)
DESCRIPTION:Dieses Angebot der Spätbetreuung bezieht sich auf die Sommerferienwoche 3 des Angebotes "Ferienspielzirkus"\r\n\r\nWichtig: Sie müssen auch bei dem Hauptprogramm der Woche angemeldet sein\, um sich für die Spätbetreuung anzumelden. Eine Anmeldung zur Spätbetreuung bedeutet nicht die Anmeldung zum Programm "Ferienspielzirkus"!
URL;VALUE=URI:https://www.unser-ferienprogramm.de/bad-nauheim/veranstaltung.php?id=296568
SUMMARY:Spätbetreuung: Ferienspielzirkus Woche 3 
DTSTART;TZID=Europe/Berlin:20260713T150000
END:VEVENT


BEGIN:VEVENT
DTEND;TZID=Europe/Berlin:20260714T160000
UID:69e5fd8d975db1
DTSTAMP:20260420T121853
LOCATION:Goldsteinpark (Am Goldsteinpark\, 61231 Bad Nauheim)
DESCRIPTION:Dieses Angebot der Spätbetreuung bezieht sich auf die Sommerferienwoche 3 des Angebotes "Ferienspielzirkus"\r\n\r\nWichtig: Sie müssen auch bei dem Hauptprogramm der Woche angemeldet sein\, um sich für die Spätbetreuung anzumelden. Eine Anmeldung zur Spätbetreuung bedeutet nicht die Anmeldung zum Programm "Ferienspielzirkus"!
URL;VALUE=URI:https://www.unser-ferienprogramm.de/bad-nauheim/veranstaltung.php?id=296568
SUMMARY:Spätbetreuung: Ferienspielzirkus Woche 3 
DTSTART;TZID=Europe/Berlin:20260714T150000
END:VEVENT


BEGIN:VEVENT
DTEND;TZID=Europe/Berlin:20260715T160000
UID:69e5fd8d975e82
DTSTAMP:20260420T121853
LOCATION:Goldsteinpark (Am Goldsteinpark\, 61231 Bad Nauheim)
DESCRIPTION:Dieses Angebot der Spätbetreuung bezieht sich auf die Sommerferienwoche 3 des Angebotes "Ferienspielzirkus"\r\n\r\nWichtig: Sie müssen auch bei dem Hauptprogramm der Woche angemeldet sein\, um sich für die Spätbetreuung anzumelden. Eine Anmeldung zur Spätbetreuung bedeutet nicht die Anmeldung zum Programm "Ferienspielzirkus"!
URL;VALUE=URI:https://www.unser-ferienprogramm.de/bad-nauheim/veranstaltung.php?id=296568
SUMMARY:Spätbetreuung: Ferienspielzirkus Woche 3 
DTSTART;TZID=Europe/Berlin:20260715T150000
END:VEVENT


BEGIN:VEVENT
DTEND;TZID=Europe/Berlin:20260716T160000
UID:69e5fd8d975f33
DTSTAMP:20260420T121853
LOCATION:Goldsteinpark (Am Goldsteinpark\, 61231 Bad Nauheim)
DESCRIPTION:Dieses Angebot der Spätbetreuung bezieht sich auf die Sommerferienwoche 3 des Angebotes "Ferienspielzirkus"\r\n\r\nWichtig: Sie müssen auch bei dem Hauptprogramm der Woche angemeldet sein\, um sich für die Spätbetreuung anzumelden. Eine Anmeldung zur Spätbetreuung bedeutet nicht die Anmeldung zum Programm "Ferienspielzirkus"!
URL;VALUE=URI:https://www.unser-ferienprogramm.de/bad-nauheim/veranstaltung.php?id=296568
SUMMARY:Spätbetreuung: Ferienspielzirkus Woche 3 
DTSTART;TZID=Europe/Berlin:20260716T150000
END:VEVENT


BEGIN:VEVENT
DTEND;TZID=Europe/Berlin:20260717T160000
UID:69e5fd8d975fe4
DTSTAMP:20260420T121853
LOCATION:Goldsteinpark (Am Goldsteinpark\, 61231 Bad Nauheim)
DESCRIPTION:Dieses Angebot der Spätbetreuung bezieht sich auf die Sommerferienwoche 3 des Angebotes "Ferienspielzirkus"\r\n\r\nWichtig: Sie müssen auch bei dem Hauptprogramm der Woche angemeldet sein\, um sich für die Spätbetreuung anzumelden. Eine Anmeldung zur Spätbetreuung bedeutet nicht die Anmeldung zum Programm "Ferienspielzirkus"!
URL;VALUE=URI:https://www.unser-ferienprogramm.de/bad-nauheim/veranstaltung.php?id=296568
SUMMARY:Spätbetreuung: Ferienspielzirkus Woche 3 
DTSTART;TZID=Europe/Berlin:20260717T150000
END:VEVENT

END:VCALENDAR
