BEGIN:VCALENDAR
VERSION:2.0
PRODID:-//hacksw/handcal//NONSGML v1.0//EN
CALSCALE:GREGORIAN
BEGIN:VTIMEZONE
TZID:Europe/Berlin
X-LIC-LOCATION:Europe/Berlin
BEGIN:DAYLIGHT
TZOFFSETFROM:+0100
TZOFFSETTO:+0200
TZNAME:CEST
DTSTART:19700329T020000
RRULE:FREQ=YEARLY;BYDAY=-1SU;BYMONTH=3
END:DAYLIGHT
BEGIN:STANDARD
TZOFFSETFROM:+0200
TZOFFSETTO:+0100
TZNAME:CET
DTSTART:19701025T030000
RRULE:FREQ=YEARLY;BYDAY=-1SU;BYMONTH=10
END:STANDARD
END:VTIMEZONE
BEGIN:VEVENT
DTEND;TZID=Europe/Berlin:20260803T150000
UID:69e6151faa627
DTSTAMP:20260420T135927
LOCATION:Waldsportplatz (Rosbacher Straße 1\, 61231 Bad Nauheim)
DESCRIPTION:In der sechsten Sommerferienwoche mit Kaleidoskop steht der Schwerpunkt Natur im Vordergrund. Gemeinsam wird gespielt\, gebastelt und viel Action erlebt. Den Kindern wird spielerisch ein ganz neuer Bezug zur Natur vermittelt und den Möglichkeiten\, die sie uns bietet. Von Sport\, über Basteln bishin zu Spielen ist das Programm wieder breit aufgestellt und für alle geeignet.\r\n\r\nDie Kinder können zwischen 8:00 und 8:30 Uhr gebracht werden\, da das Programm erst um 8:30 Uhr startet.\r\nEine Spätbetreuung von 15 bis 16 Uhr kann für 10€ pro Woche hinzugebucht werden. Die Plätze für die Spätbetreuung sind jedoch begrenzt. Sie finden die Buchung auch über dieses Portal in der Liste der Angebote.\r\n\r\nWir freuen uns auf Ihre Kinder!
URL;VALUE=URI:https://www.unser-ferienprogramm.de/bad-nauheim/veranstaltung.php?id=296558
SUMMARY:Abenteuer Wald! Natur\, Spiel & Action- Ferienspiele Woche 6: Kaleidoskop
DTSTART;TZID=Europe/Berlin:20260803T080000
END:VEVENT


BEGIN:VEVENT
DTEND;TZID=Europe/Berlin:20260804T150000
UID:69e6151faa6431
DTSTAMP:20260420T135927
LOCATION:Waldsportplatz (Rosbacher Straße 1\, 61231 Bad Nauheim)
DESCRIPTION:In der sechsten Sommerferienwoche mit Kaleidoskop steht der Schwerpunkt Natur im Vordergrund. Gemeinsam wird gespielt\, gebastelt und viel Action erlebt. Den Kindern wird spielerisch ein ganz neuer Bezug zur Natur vermittelt und den Möglichkeiten\, die sie uns bietet. Von Sport\, über Basteln bishin zu Spielen ist das Programm wieder breit aufgestellt und für alle geeignet.\r\n\r\nDie Kinder können zwischen 8:00 und 8:30 Uhr gebracht werden\, da das Programm erst um 8:30 Uhr startet.\r\nEine Spätbetreuung von 15 bis 16 Uhr kann für 10€ pro Woche hinzugebucht werden. Die Plätze für die Spätbetreuung sind jedoch begrenzt. Sie finden die Buchung auch über dieses Portal in der Liste der Angebote.\r\n\r\nWir freuen uns auf Ihre Kinder!
URL;VALUE=URI:https://www.unser-ferienprogramm.de/bad-nauheim/veranstaltung.php?id=296558
SUMMARY:Abenteuer Wald! Natur\, Spiel & Action- Ferienspiele Woche 6: Kaleidoskop
DTSTART;TZID=Europe/Berlin:20260804T080000
END:VEVENT


BEGIN:VEVENT
DTEND;TZID=Europe/Berlin:20260805T150000
UID:69e6151faa6542
DTSTAMP:20260420T135927
LOCATION:Waldsportplatz (Rosbacher Straße 1\, 61231 Bad Nauheim)
DESCRIPTION:In der sechsten Sommerferienwoche mit Kaleidoskop steht der Schwerpunkt Natur im Vordergrund. Gemeinsam wird gespielt\, gebastelt und viel Action erlebt. Den Kindern wird spielerisch ein ganz neuer Bezug zur Natur vermittelt und den Möglichkeiten\, die sie uns bietet. Von Sport\, über Basteln bishin zu Spielen ist das Programm wieder breit aufgestellt und für alle geeignet.\r\n\r\nDie Kinder können zwischen 8:00 und 8:30 Uhr gebracht werden\, da das Programm erst um 8:30 Uhr startet.\r\nEine Spätbetreuung von 15 bis 16 Uhr kann für 10€ pro Woche hinzugebucht werden. Die Plätze für die Spätbetreuung sind jedoch begrenzt. Sie finden die Buchung auch über dieses Portal in der Liste der Angebote.\r\n\r\nWir freuen uns auf Ihre Kinder!
URL;VALUE=URI:https://www.unser-ferienprogramm.de/bad-nauheim/veranstaltung.php?id=296558
SUMMARY:Abenteuer Wald! Natur\, Spiel & Action- Ferienspiele Woche 6: Kaleidoskop
DTSTART;TZID=Europe/Berlin:20260805T080000
END:VEVENT


BEGIN:VEVENT
DTEND;TZID=Europe/Berlin:20260806T150000
UID:69e6151faa6623
DTSTAMP:20260420T135927
LOCATION:Waldsportplatz (Rosbacher Straße 1\, 61231 Bad Nauheim)
DESCRIPTION:In der sechsten Sommerferienwoche mit Kaleidoskop steht der Schwerpunkt Natur im Vordergrund. Gemeinsam wird gespielt\, gebastelt und viel Action erlebt. Den Kindern wird spielerisch ein ganz neuer Bezug zur Natur vermittelt und den Möglichkeiten\, die sie uns bietet. Von Sport\, über Basteln bishin zu Spielen ist das Programm wieder breit aufgestellt und für alle geeignet.\r\n\r\nDie Kinder können zwischen 8:00 und 8:30 Uhr gebracht werden\, da das Programm erst um 8:30 Uhr startet.\r\nEine Spätbetreuung von 15 bis 16 Uhr kann für 10€ pro Woche hinzugebucht werden. Die Plätze für die Spätbetreuung sind jedoch begrenzt. Sie finden die Buchung auch über dieses Portal in der Liste der Angebote.\r\n\r\nWir freuen uns auf Ihre Kinder!
URL;VALUE=URI:https://www.unser-ferienprogramm.de/bad-nauheim/veranstaltung.php?id=296558
SUMMARY:Abenteuer Wald! Natur\, Spiel & Action- Ferienspiele Woche 6: Kaleidoskop
DTSTART;TZID=Europe/Berlin:20260806T080000
END:VEVENT


BEGIN:VEVENT
DTEND;TZID=Europe/Berlin:20260807T150000
UID:69e6151faa66f4
DTSTAMP:20260420T135927
LOCATION:Waldsportplatz (Rosbacher Straße 1\, 61231 Bad Nauheim)
DESCRIPTION:In der sechsten Sommerferienwoche mit Kaleidoskop steht der Schwerpunkt Natur im Vordergrund. Gemeinsam wird gespielt\, gebastelt und viel Action erlebt. Den Kindern wird spielerisch ein ganz neuer Bezug zur Natur vermittelt und den Möglichkeiten\, die sie uns bietet. Von Sport\, über Basteln bishin zu Spielen ist das Programm wieder breit aufgestellt und für alle geeignet.\r\n\r\nDie Kinder können zwischen 8:00 und 8:30 Uhr gebracht werden\, da das Programm erst um 8:30 Uhr startet.\r\nEine Spätbetreuung von 15 bis 16 Uhr kann für 10€ pro Woche hinzugebucht werden. Die Plätze für die Spätbetreuung sind jedoch begrenzt. Sie finden die Buchung auch über dieses Portal in der Liste der Angebote.\r\n\r\nWir freuen uns auf Ihre Kinder!
URL;VALUE=URI:https://www.unser-ferienprogramm.de/bad-nauheim/veranstaltung.php?id=296558
SUMMARY:Abenteuer Wald! Natur\, Spiel & Action- Ferienspiele Woche 6: Kaleidoskop
DTSTART;TZID=Europe/Berlin:20260807T080000
END:VEVENT

END:VCALENDAR
