BEGIN:VCALENDAR
VERSION:2.0
PRODID:-//hacksw/handcal//NONSGML v1.0//EN
CALSCALE:GREGORIAN
BEGIN:VTIMEZONE
TZID:Europe/Berlin
X-LIC-LOCATION:Europe/Berlin
BEGIN:DAYLIGHT
TZOFFSETFROM:+0100
TZOFFSETTO:+0200
TZNAME:CEST
DTSTART:19700329T020000
RRULE:FREQ=YEARLY;BYDAY=-1SU;BYMONTH=3
END:DAYLIGHT
BEGIN:STANDARD
TZOFFSETFROM:+0200
TZOFFSETTO:+0100
TZNAME:CET
DTSTART:19701025T030000
RRULE:FREQ=YEARLY;BYDAY=-1SU;BYMONTH=10
END:STANDARD
END:VTIMEZONE
BEGIN:VEVENT
DTEND;TZID=Europe/Berlin:20260727T150000
UID:69e6151933f8b
DTSTAMP:20260420T135921
LOCATION:Waldsportplatz (Rosbacher Straße 1\, 61231 Bad Nauheim)
DESCRIPTION:Passend zur WM 2026 wird in dieser Woche das Motto "Teamgeist gewinnt! Weltmeister:innen der Freundschaft" gefeiert. Selbstverständlich liegt bei diesem Programm ein kleiner Schwerpunkt im sportlichen Bereich. Dennoch kommen Bastelangebote und Spiele nicht zu kurz\, sodass für alle Kids etwas dabei ist!\r\n\r\nDie Kinder können zwischen 8:00 und 8:30 Uhr gebracht werden\, da das Programm erst um 8:30 Uhr startet.\r\nEine Spätbetreuung von 15 bis 16 Uhr kann für 10€ pro Woche hinzugebucht werden. Die Plätze für die Spätbetreuung sind jedoch begrenzt. Sie finden die Buchung auch über dieses Portal in der Liste der Angebote.\r\n\r\nWir freuen uns auf Ihre Kinder!
URL;VALUE=URI:https://www.unser-ferienprogramm.de/bad-nauheim/veranstaltung.php?id=296555
SUMMARY:Teamgeist gewinnt! Weltmeister:innen der Freundschaft - Ferienspiele Woche 5: Kaleidoskop
DTSTART;TZID=Europe/Berlin:20260727T080000
END:VEVENT


BEGIN:VEVENT
DTEND;TZID=Europe/Berlin:20260728T150000
UID:69e6151933fb01
DTSTAMP:20260420T135921
LOCATION:Waldsportplatz (Rosbacher Straße 1\, 61231 Bad Nauheim)
DESCRIPTION:Passend zur WM 2026 wird in dieser Woche das Motto "Teamgeist gewinnt! Weltmeister:innen der Freundschaft" gefeiert. Selbstverständlich liegt bei diesem Programm ein kleiner Schwerpunkt im sportlichen Bereich. Dennoch kommen Bastelangebote und Spiele nicht zu kurz\, sodass für alle Kids etwas dabei ist!\r\n\r\nDie Kinder können zwischen 8:00 und 8:30 Uhr gebracht werden\, da das Programm erst um 8:30 Uhr startet.\r\nEine Spätbetreuung von 15 bis 16 Uhr kann für 10€ pro Woche hinzugebucht werden. Die Plätze für die Spätbetreuung sind jedoch begrenzt. Sie finden die Buchung auch über dieses Portal in der Liste der Angebote.\r\n\r\nWir freuen uns auf Ihre Kinder!
URL;VALUE=URI:https://www.unser-ferienprogramm.de/bad-nauheim/veranstaltung.php?id=296555
SUMMARY:Teamgeist gewinnt! Weltmeister:innen der Freundschaft - Ferienspiele Woche 5: Kaleidoskop
DTSTART;TZID=Europe/Berlin:20260728T080000
END:VEVENT


BEGIN:VEVENT
DTEND;TZID=Europe/Berlin:20260729T150000
UID:69e6151933fb72
DTSTAMP:20260420T135921
LOCATION:Waldsportplatz (Rosbacher Straße 1\, 61231 Bad Nauheim)
DESCRIPTION:Passend zur WM 2026 wird in dieser Woche das Motto "Teamgeist gewinnt! Weltmeister:innen der Freundschaft" gefeiert. Selbstverständlich liegt bei diesem Programm ein kleiner Schwerpunkt im sportlichen Bereich. Dennoch kommen Bastelangebote und Spiele nicht zu kurz\, sodass für alle Kids etwas dabei ist!\r\n\r\nDie Kinder können zwischen 8:00 und 8:30 Uhr gebracht werden\, da das Programm erst um 8:30 Uhr startet.\r\nEine Spätbetreuung von 15 bis 16 Uhr kann für 10€ pro Woche hinzugebucht werden. Die Plätze für die Spätbetreuung sind jedoch begrenzt. Sie finden die Buchung auch über dieses Portal in der Liste der Angebote.\r\n\r\nWir freuen uns auf Ihre Kinder!
URL;VALUE=URI:https://www.unser-ferienprogramm.de/bad-nauheim/veranstaltung.php?id=296555
SUMMARY:Teamgeist gewinnt! Weltmeister:innen der Freundschaft - Ferienspiele Woche 5: Kaleidoskop
DTSTART;TZID=Europe/Berlin:20260729T080000
END:VEVENT


BEGIN:VEVENT
DTEND;TZID=Europe/Berlin:20260730T150000
UID:69e6151933fbd3
DTSTAMP:20260420T135921
LOCATION:Waldsportplatz (Rosbacher Straße 1\, 61231 Bad Nauheim)
DESCRIPTION:Passend zur WM 2026 wird in dieser Woche das Motto "Teamgeist gewinnt! Weltmeister:innen der Freundschaft" gefeiert. Selbstverständlich liegt bei diesem Programm ein kleiner Schwerpunkt im sportlichen Bereich. Dennoch kommen Bastelangebote und Spiele nicht zu kurz\, sodass für alle Kids etwas dabei ist!\r\n\r\nDie Kinder können zwischen 8:00 und 8:30 Uhr gebracht werden\, da das Programm erst um 8:30 Uhr startet.\r\nEine Spätbetreuung von 15 bis 16 Uhr kann für 10€ pro Woche hinzugebucht werden. Die Plätze für die Spätbetreuung sind jedoch begrenzt. Sie finden die Buchung auch über dieses Portal in der Liste der Angebote.\r\n\r\nWir freuen uns auf Ihre Kinder!
URL;VALUE=URI:https://www.unser-ferienprogramm.de/bad-nauheim/veranstaltung.php?id=296555
SUMMARY:Teamgeist gewinnt! Weltmeister:innen der Freundschaft - Ferienspiele Woche 5: Kaleidoskop
DTSTART;TZID=Europe/Berlin:20260730T080000
END:VEVENT


BEGIN:VEVENT
DTEND;TZID=Europe/Berlin:20260731T150000
UID:69e6151933fc34
DTSTAMP:20260420T135921
LOCATION:Waldsportplatz (Rosbacher Straße 1\, 61231 Bad Nauheim)
DESCRIPTION:Passend zur WM 2026 wird in dieser Woche das Motto "Teamgeist gewinnt! Weltmeister:innen der Freundschaft" gefeiert. Selbstverständlich liegt bei diesem Programm ein kleiner Schwerpunkt im sportlichen Bereich. Dennoch kommen Bastelangebote und Spiele nicht zu kurz\, sodass für alle Kids etwas dabei ist!\r\n\r\nDie Kinder können zwischen 8:00 und 8:30 Uhr gebracht werden\, da das Programm erst um 8:30 Uhr startet.\r\nEine Spätbetreuung von 15 bis 16 Uhr kann für 10€ pro Woche hinzugebucht werden. Die Plätze für die Spätbetreuung sind jedoch begrenzt. Sie finden die Buchung auch über dieses Portal in der Liste der Angebote.\r\n\r\nWir freuen uns auf Ihre Kinder!
URL;VALUE=URI:https://www.unser-ferienprogramm.de/bad-nauheim/veranstaltung.php?id=296555
SUMMARY:Teamgeist gewinnt! Weltmeister:innen der Freundschaft - Ferienspiele Woche 5: Kaleidoskop
DTSTART;TZID=Europe/Berlin:20260731T080000
END:VEVENT

END:VCALENDAR
