BEGIN:VCALENDAR
VERSION:2.0
PRODID:-//hacksw/handcal//NONSGML v1.0//EN
CALSCALE:GREGORIAN
BEGIN:VTIMEZONE
TZID:Europe/Berlin
X-LIC-LOCATION:Europe/Berlin
BEGIN:DAYLIGHT
TZOFFSETFROM:+0100
TZOFFSETTO:+0200
TZNAME:CEST
DTSTART:19700329T020000
RRULE:FREQ=YEARLY;BYDAY=-1SU;BYMONTH=3
END:DAYLIGHT
BEGIN:STANDARD
TZOFFSETFROM:+0200
TZOFFSETTO:+0100
TZNAME:CET
DTSTART:19701025T030000
RRULE:FREQ=YEARLY;BYDAY=-1SU;BYMONTH=10
END:STANDARD
END:VTIMEZONE
BEGIN:VEVENT
DTEND;TZID=Europe/Berlin:20260713T150000
UID:69e5fd9573532
DTSTAMP:20260420T121901
LOCATION:Goldsteinpark (Am Goldstein\, 61231 Bad Nauheim)
DESCRIPTION:Zirkusluft können die Kinder in der dritten und vierten Ferienwoche schnuppern. Hier besucht uns wieder der Zirkus Rondel und baut sein Zirkuszelt im Goldsteinpark auf. Eine Woche lang trainieren Ihre Kinder für die große Galashow\, bevor sie am Freitagabend (voraussichtlich um 18 Uhr) die Zuschauer mit atemberaubender Artistik\, lustigen Clownsnummern und sogar einer Feuershow ins Staunen versetzen.\r\n\r\nDie Kinder können zwischen 8:00 und 8:30 Uhr gebracht werden\, da das Programm erst um 8:30 Uhr startet.\r\nEine Spätbetreuung von 15 bis 16 Uhr kann für 10€ pro Woche hinzugebucht werden. Die Plätze für die Spätbetreuung sind jedoch begrenzt. Sie finden die Buchung auch über dieses Portal in der Liste der Angebote.\r\n\r\nWir freuen uns auf Ihre Kinder!\r\n\r\nBitte beachten Sie\, dass der Zirkus Unterstützung beim Auf- bzw. Abbau benötigen wird. Dazu wird noch eine separate Umfrage in einigen Monaten via Mail versendet. Mit der Anmeldung Ihres Kindes für den Ferienspielzirkus erklären Sie sich bereit uns beim Auf- oder Abbau zu unterstützen. 
URL;VALUE=URI:https://www.unser-ferienprogramm.de/bad-nauheim/veranstaltung.php?id=296536
SUMMARY:Ferienspielzirkus 2026 - Woche 3
DTSTART;TZID=Europe/Berlin:20260713T080000
END:VEVENT


BEGIN:VEVENT
DTEND;TZID=Europe/Berlin:20260714T150000
UID:69e5fd95735771
DTSTAMP:20260420T121901
LOCATION:Goldsteinpark (Am Goldstein\, 61231 Bad Nauheim)
DESCRIPTION:Zirkusluft können die Kinder in der dritten und vierten Ferienwoche schnuppern. Hier besucht uns wieder der Zirkus Rondel und baut sein Zirkuszelt im Goldsteinpark auf. Eine Woche lang trainieren Ihre Kinder für die große Galashow\, bevor sie am Freitagabend (voraussichtlich um 18 Uhr) die Zuschauer mit atemberaubender Artistik\, lustigen Clownsnummern und sogar einer Feuershow ins Staunen versetzen.\r\n\r\nDie Kinder können zwischen 8:00 und 8:30 Uhr gebracht werden\, da das Programm erst um 8:30 Uhr startet.\r\nEine Spätbetreuung von 15 bis 16 Uhr kann für 10€ pro Woche hinzugebucht werden. Die Plätze für die Spätbetreuung sind jedoch begrenzt. Sie finden die Buchung auch über dieses Portal in der Liste der Angebote.\r\n\r\nWir freuen uns auf Ihre Kinder!\r\n\r\nBitte beachten Sie\, dass der Zirkus Unterstützung beim Auf- bzw. Abbau benötigen wird. Dazu wird noch eine separate Umfrage in einigen Monaten via Mail versendet. Mit der Anmeldung Ihres Kindes für den Ferienspielzirkus erklären Sie sich bereit uns beim Auf- oder Abbau zu unterstützen. 
URL;VALUE=URI:https://www.unser-ferienprogramm.de/bad-nauheim/veranstaltung.php?id=296536
SUMMARY:Ferienspielzirkus 2026 - Woche 3
DTSTART;TZID=Europe/Berlin:20260714T080000
END:VEVENT


BEGIN:VEVENT
DTEND;TZID=Europe/Berlin:20260715T150000
UID:69e5fd95735892
DTSTAMP:20260420T121901
LOCATION:Goldsteinpark (Am Goldstein\, 61231 Bad Nauheim)
DESCRIPTION:Zirkusluft können die Kinder in der dritten und vierten Ferienwoche schnuppern. Hier besucht uns wieder der Zirkus Rondel und baut sein Zirkuszelt im Goldsteinpark auf. Eine Woche lang trainieren Ihre Kinder für die große Galashow\, bevor sie am Freitagabend (voraussichtlich um 18 Uhr) die Zuschauer mit atemberaubender Artistik\, lustigen Clownsnummern und sogar einer Feuershow ins Staunen versetzen.\r\n\r\nDie Kinder können zwischen 8:00 und 8:30 Uhr gebracht werden\, da das Programm erst um 8:30 Uhr startet.\r\nEine Spätbetreuung von 15 bis 16 Uhr kann für 10€ pro Woche hinzugebucht werden. Die Plätze für die Spätbetreuung sind jedoch begrenzt. Sie finden die Buchung auch über dieses Portal in der Liste der Angebote.\r\n\r\nWir freuen uns auf Ihre Kinder!\r\n\r\nBitte beachten Sie\, dass der Zirkus Unterstützung beim Auf- bzw. Abbau benötigen wird. Dazu wird noch eine separate Umfrage in einigen Monaten via Mail versendet. Mit der Anmeldung Ihres Kindes für den Ferienspielzirkus erklären Sie sich bereit uns beim Auf- oder Abbau zu unterstützen. 
URL;VALUE=URI:https://www.unser-ferienprogramm.de/bad-nauheim/veranstaltung.php?id=296536
SUMMARY:Ferienspielzirkus 2026 - Woche 3
DTSTART;TZID=Europe/Berlin:20260715T080000
END:VEVENT


BEGIN:VEVENT
DTEND;TZID=Europe/Berlin:20260716T150000
UID:69e5fd95735993
DTSTAMP:20260420T121901
LOCATION:Goldsteinpark (Am Goldstein\, 61231 Bad Nauheim)
DESCRIPTION:Zirkusluft können die Kinder in der dritten und vierten Ferienwoche schnuppern. Hier besucht uns wieder der Zirkus Rondel und baut sein Zirkuszelt im Goldsteinpark auf. Eine Woche lang trainieren Ihre Kinder für die große Galashow\, bevor sie am Freitagabend (voraussichtlich um 18 Uhr) die Zuschauer mit atemberaubender Artistik\, lustigen Clownsnummern und sogar einer Feuershow ins Staunen versetzen.\r\n\r\nDie Kinder können zwischen 8:00 und 8:30 Uhr gebracht werden\, da das Programm erst um 8:30 Uhr startet.\r\nEine Spätbetreuung von 15 bis 16 Uhr kann für 10€ pro Woche hinzugebucht werden. Die Plätze für die Spätbetreuung sind jedoch begrenzt. Sie finden die Buchung auch über dieses Portal in der Liste der Angebote.\r\n\r\nWir freuen uns auf Ihre Kinder!\r\n\r\nBitte beachten Sie\, dass der Zirkus Unterstützung beim Auf- bzw. Abbau benötigen wird. Dazu wird noch eine separate Umfrage in einigen Monaten via Mail versendet. Mit der Anmeldung Ihres Kindes für den Ferienspielzirkus erklären Sie sich bereit uns beim Auf- oder Abbau zu unterstützen. 
URL;VALUE=URI:https://www.unser-ferienprogramm.de/bad-nauheim/veranstaltung.php?id=296536
SUMMARY:Ferienspielzirkus 2026 - Woche 3
DTSTART;TZID=Europe/Berlin:20260716T080000
END:VEVENT


BEGIN:VEVENT
DTEND;TZID=Europe/Berlin:20260717T150000
UID:69e5fd95735a74
DTSTAMP:20260420T121901
LOCATION:Goldsteinpark (Am Goldstein\, 61231 Bad Nauheim)
DESCRIPTION:Zirkusluft können die Kinder in der dritten und vierten Ferienwoche schnuppern. Hier besucht uns wieder der Zirkus Rondel und baut sein Zirkuszelt im Goldsteinpark auf. Eine Woche lang trainieren Ihre Kinder für die große Galashow\, bevor sie am Freitagabend (voraussichtlich um 18 Uhr) die Zuschauer mit atemberaubender Artistik\, lustigen Clownsnummern und sogar einer Feuershow ins Staunen versetzen.\r\n\r\nDie Kinder können zwischen 8:00 und 8:30 Uhr gebracht werden\, da das Programm erst um 8:30 Uhr startet.\r\nEine Spätbetreuung von 15 bis 16 Uhr kann für 10€ pro Woche hinzugebucht werden. Die Plätze für die Spätbetreuung sind jedoch begrenzt. Sie finden die Buchung auch über dieses Portal in der Liste der Angebote.\r\n\r\nWir freuen uns auf Ihre Kinder!\r\n\r\nBitte beachten Sie\, dass der Zirkus Unterstützung beim Auf- bzw. Abbau benötigen wird. Dazu wird noch eine separate Umfrage in einigen Monaten via Mail versendet. Mit der Anmeldung Ihres Kindes für den Ferienspielzirkus erklären Sie sich bereit uns beim Auf- oder Abbau zu unterstützen. 
URL;VALUE=URI:https://www.unser-ferienprogramm.de/bad-nauheim/veranstaltung.php?id=296536
SUMMARY:Ferienspielzirkus 2026 - Woche 3
DTSTART;TZID=Europe/Berlin:20260717T080000
END:VEVENT

END:VCALENDAR
