BEGIN:VCALENDAR
VERSION:2.0
PRODID:-//hacksw/handcal//NONSGML v1.0//EN
CALSCALE:GREGORIAN
BEGIN:VTIMEZONE
TZID:Europe/Berlin
X-LIC-LOCATION:Europe/Berlin
BEGIN:DAYLIGHT
TZOFFSETFROM:+0100
TZOFFSETTO:+0200
TZNAME:CEST
DTSTART:19700329T020000
RRULE:FREQ=YEARLY;BYDAY=-1SU;BYMONTH=3
END:DAYLIGHT
BEGIN:STANDARD
TZOFFSETFROM:+0200
TZOFFSETTO:+0100
TZNAME:CET
DTSTART:19701025T030000
RRULE:FREQ=YEARLY;BYDAY=-1SU;BYMONTH=10
END:STANDARD
END:VTIMEZONE
BEGIN:VEVENT
DTEND;TZID=Europe/Berlin:20260407T143000
UID:69e61058e4fd5
DTSTAMP:20260420T133904
LOCATION:Kinder- und Jugendhaus Alte Feuerwache (Johannisstraße 5\, 61231 Bad Nauheim)
DESCRIPTION:Auch 2026 möchten wir wieder unsere Spielewerkstatt in den Osterferien durchführen. Mittlerweile sind bereits viele großartige Spiele produziert worden und auch in diesem Jahr können Kinder zwischen 8 und 14 Jahren hier unterschiedliche Spiele ausprobieren und anschließend selbst in die Rolle von Spieleautorinnen und Spieleautoren schlüpfen. \r\n\r\nLos geht es in der zweiten Osterferienwoche im Kinder- und Jugendhaus Alte Feuerwache (Johannisstraße 5). Von Dienstag bis Freitag (7.-10. April) treffen wir uns täglich von 9:00-14:30 Uhr und entwickeln gemeinsam ein neues Bad Nauheim Brettspiel.\r\nAm Samstag\, den 11. April wird das fertige Spiel den Eltern um 10:00 Uhr im Rahmen unserer diesjährigen Salinencon präsentiert.\r\n
URL;VALUE=URI:https://www.unser-ferienprogramm.de/bad-nauheim/veranstaltung.php?id=296124
SUMMARY:Spielewerkstatt in den Osterferien 2026
DTSTART;TZID=Europe/Berlin:20260407T090000
END:VEVENT


BEGIN:VEVENT
DTEND;TZID=Europe/Berlin:20260408T143000
UID:69e61058e50171
DTSTAMP:20260420T133904
LOCATION:Kinder- und Jugendhaus Alte Feuerwache (Johannisstraße 5\, 61231 Bad Nauheim)
DESCRIPTION:Auch 2026 möchten wir wieder unsere Spielewerkstatt in den Osterferien durchführen. Mittlerweile sind bereits viele großartige Spiele produziert worden und auch in diesem Jahr können Kinder zwischen 8 und 14 Jahren hier unterschiedliche Spiele ausprobieren und anschließend selbst in die Rolle von Spieleautorinnen und Spieleautoren schlüpfen. \r\n\r\nLos geht es in der zweiten Osterferienwoche im Kinder- und Jugendhaus Alte Feuerwache (Johannisstraße 5). Von Dienstag bis Freitag (7.-10. April) treffen wir uns täglich von 9:00-14:30 Uhr und entwickeln gemeinsam ein neues Bad Nauheim Brettspiel.\r\nAm Samstag\, den 11. April wird das fertige Spiel den Eltern um 10:00 Uhr im Rahmen unserer diesjährigen Salinencon präsentiert.\r\n
URL;VALUE=URI:https://www.unser-ferienprogramm.de/bad-nauheim/veranstaltung.php?id=296124
SUMMARY:Spielewerkstatt in den Osterferien 2026
DTSTART;TZID=Europe/Berlin:20260408T090000
END:VEVENT


BEGIN:VEVENT
DTEND;TZID=Europe/Berlin:20260409T143000
UID:69e61058e50282
DTSTAMP:20260420T133904
LOCATION:Kinder- und Jugendhaus Alte Feuerwache (Johannisstraße 5\, 61231 Bad Nauheim)
DESCRIPTION:Auch 2026 möchten wir wieder unsere Spielewerkstatt in den Osterferien durchführen. Mittlerweile sind bereits viele großartige Spiele produziert worden und auch in diesem Jahr können Kinder zwischen 8 und 14 Jahren hier unterschiedliche Spiele ausprobieren und anschließend selbst in die Rolle von Spieleautorinnen und Spieleautoren schlüpfen. \r\n\r\nLos geht es in der zweiten Osterferienwoche im Kinder- und Jugendhaus Alte Feuerwache (Johannisstraße 5). Von Dienstag bis Freitag (7.-10. April) treffen wir uns täglich von 9:00-14:30 Uhr und entwickeln gemeinsam ein neues Bad Nauheim Brettspiel.\r\nAm Samstag\, den 11. April wird das fertige Spiel den Eltern um 10:00 Uhr im Rahmen unserer diesjährigen Salinencon präsentiert.\r\n
URL;VALUE=URI:https://www.unser-ferienprogramm.de/bad-nauheim/veranstaltung.php?id=296124
SUMMARY:Spielewerkstatt in den Osterferien 2026
DTSTART;TZID=Europe/Berlin:20260409T090000
END:VEVENT


BEGIN:VEVENT
DTEND;TZID=Europe/Berlin:20260410T143000
UID:69e61058e50363
DTSTAMP:20260420T133904
LOCATION:Kinder- und Jugendhaus Alte Feuerwache (Johannisstraße 5\, 61231 Bad Nauheim)
DESCRIPTION:Auch 2026 möchten wir wieder unsere Spielewerkstatt in den Osterferien durchführen. Mittlerweile sind bereits viele großartige Spiele produziert worden und auch in diesem Jahr können Kinder zwischen 8 und 14 Jahren hier unterschiedliche Spiele ausprobieren und anschließend selbst in die Rolle von Spieleautorinnen und Spieleautoren schlüpfen. \r\n\r\nLos geht es in der zweiten Osterferienwoche im Kinder- und Jugendhaus Alte Feuerwache (Johannisstraße 5). Von Dienstag bis Freitag (7.-10. April) treffen wir uns täglich von 9:00-14:30 Uhr und entwickeln gemeinsam ein neues Bad Nauheim Brettspiel.\r\nAm Samstag\, den 11. April wird das fertige Spiel den Eltern um 10:00 Uhr im Rahmen unserer diesjährigen Salinencon präsentiert.\r\n
URL;VALUE=URI:https://www.unser-ferienprogramm.de/bad-nauheim/veranstaltung.php?id=296124
SUMMARY:Spielewerkstatt in den Osterferien 2026
DTSTART;TZID=Europe/Berlin:20260410T090000
END:VEVENT


BEGIN:VEVENT
DTEND;TZID=Europe/Berlin:20260411T100000
UID:69e61058e50424
DTSTAMP:20260420T133904
LOCATION:Kinder- und Jugendhaus Alte Feuerwache (Johannisstraße 5\, 61231 Bad Nauheim)
DESCRIPTION:Auch 2026 möchten wir wieder unsere Spielewerkstatt in den Osterferien durchführen. Mittlerweile sind bereits viele großartige Spiele produziert worden und auch in diesem Jahr können Kinder zwischen 8 und 14 Jahren hier unterschiedliche Spiele ausprobieren und anschließend selbst in die Rolle von Spieleautorinnen und Spieleautoren schlüpfen. \r\n\r\nLos geht es in der zweiten Osterferienwoche im Kinder- und Jugendhaus Alte Feuerwache (Johannisstraße 5). Von Dienstag bis Freitag (7.-10. April) treffen wir uns täglich von 9:00-14:30 Uhr und entwickeln gemeinsam ein neues Bad Nauheim Brettspiel.\r\nAm Samstag\, den 11. April wird das fertige Spiel den Eltern um 10:00 Uhr im Rahmen unserer diesjährigen Salinencon präsentiert.\r\n
URL;VALUE=URI:https://www.unser-ferienprogramm.de/bad-nauheim/veranstaltung.php?id=296124
SUMMARY:Spielewerkstatt in den Osterferien 2026
DTSTART;TZID=Europe/Berlin:20260411T100000
END:VEVENT

END:VCALENDAR
