BEGIN:VCALENDAR
VERSION:2.0
PRODID:-//hacksw/handcal//NONSGML v1.0//EN
CALSCALE:GREGORIAN
BEGIN:VTIMEZONE
TZID:Europe/Berlin
X-LIC-LOCATION:Europe/Berlin
BEGIN:DAYLIGHT
TZOFFSETFROM:+0100
TZOFFSETTO:+0200
TZNAME:CEST
DTSTART:19700329T020000
RRULE:FREQ=YEARLY;BYDAY=-1SU;BYMONTH=3
END:DAYLIGHT
BEGIN:STANDARD
TZOFFSETFROM:+0200
TZOFFSETTO:+0100
TZNAME:CET
DTSTART:19701025T030000
RRULE:FREQ=YEARLY;BYDAY=-1SU;BYMONTH=10
END:STANDARD
END:VTIMEZONE
BEGIN:VEVENT
DTEND;TZID=Europe/Berlin:20260531T000000
UID:69e7573fae055
DTSTAMP:20260421T125351
LOCATION:
DESCRIPTION:Alles ab 16 Jahre „Aufgepasst“!\r\n\r\nLust auf Action in den Ferien? Du möchtest in der Jugendarbeit mitmischen oder einfach mal reinschnuppern? Du weißt\, was richtig Bock macht\, hipp oder gerade angesagt ist? \r\nDu hast vielleicht sogar schon eine JuLeiCa und willst dich einfach nur mal mit einem kleinen Projekt ausprobieren? Das geht bei uns in den Oster-\, Sommer- und Herbstferien (und sonst natürlich auch gern \;-) )\r\n\r\nGestalte DEINE Idee im / für den Ferienpass Bad Harzburg. Kreativ\, handwerklich\, musikalisch\, E-Sports\, oudoor\, Freizeitfahrt als Teamer*in....es gibt soviele Möglichkeiten.\r\nWichtig: Du musst kein Profi sein oder bereits Erfahrung haben - wir entwickeln mit dir deine (verrückten) Ideen weiter und unterstützen dich bei der praktischen Umsetzung – von der Idee zum eigenen Projekt. Geht nicht\, gibt’s (eigentlich) nicht!\r\n\r\nDie (Material-)Kosten tragen wir\, das Datum bestimmst Du\, ein Taschengeld/Stundenlohn gibt’s on TOP.\r\nMeld dich doch einfach mal bei uns oder komm vorbei – da wo laut ist\, sind wir (kleiner Spass).\r\n\r\n\r\nInfos so nebenbei:\r\nAktuell (Stand 07/2024) haben wir Montag-Freitag von 13.00 - 18.00 Uhr für euch geöffnet! Im Haus sind wir aber für euch ab 10:00 Uhr per email oder Telefon erreichbar.\r\n\r\nBei Lust und Laune einfach vorbeikommen\, egal ob du deine Hausaufgaben erledigen möchtest\, zum klönen\, qatschen\, daddeln\, lachen\, Musik hören oder für sportliche Aktivitäten\, als Kreativitätsmonster\, zum Kochen oder einfach nur so..... unser Haus für eure Freizeit \;-)\r\n\r\n\r\nBei Fragen könnt ihr/eure Eltern uns hier erreichen:\r\n\r\n--> Mail an:  info@jugend-treff.de\r\n--> Festnetz: 05322-87673\r\n\r\nWir freuen uns darauf\, euch zu sehen (und hören)....\r\n\r\nBis die Tage\,\r\neuer Treffteam!\r\n
URL;VALUE=URI:https://www.unser-ferienprogramm.de/bad-harzburg/veranstaltung.php?id=85734
SUMMARY:Du bist 16 Jahre? --> Lust auf Mitarbeit im Ferienpass oder in der Jugendarbeit?
DTSTART;TZID=Europe/Berlin:20260420T000000
END:VEVENT

END:VCALENDAR
