BEGIN:VCALENDAR
VERSION:2.0
PRODID:-//hacksw/handcal//NONSGML v1.0//EN
CALSCALE:GREGORIAN
BEGIN:VTIMEZONE
TZID:Europe/Berlin
X-LIC-LOCATION:Europe/Berlin
BEGIN:DAYLIGHT
TZOFFSETFROM:+0100
TZOFFSETTO:+0200
TZNAME:CEST
DTSTART:19700329T020000
RRULE:FREQ=YEARLY;BYDAY=-1SU;BYMONTH=3
END:DAYLIGHT
BEGIN:STANDARD
TZOFFSETFROM:+0200
TZOFFSETTO:+0100
TZNAME:CET
DTSTART:19701025T030000
RRULE:FREQ=YEARLY;BYDAY=-1SU;BYMONTH=10
END:STANDARD
END:VTIMEZONE
BEGIN:VEVENT
DTEND;TZID=Europe/Berlin:20260606T153000
UID:69e755c33ee68
DTSTAMP:20260421T124731
LOCATION:Bündheimer Schloss
DESCRIPTION:Nach dem Erfolg der Veranstaltung “Junge Frauen stark machen- girls just wanna have fundamental rights” im letzten Jahr lade ich Sie/ euch herzlich zur Folgeveranstaltung\r\n„Junge Frauen stark machen- girls just need to have fundamental rights” am 06.06.2026 \r\nvon 12:00 Uhr bis ca. 15:30 Uhr ins Bündheimer Schloss ein.\r\n\r\nZum diesjährigen Female Empowerment Event ist Tessa Koschig eingeladen und bringt\r\nmit Glow Your Own Way ein Format auf die Bühne\, das junge Frauen stärkt\, inspiriert und ihnen Mut macht\, ihren eigenen Weg selbstbewusst zu gehen.  Als Autorin\, Speakerin und echte „Local“ – sie ist in der Region verwurzelt und ging in Goslar zur Schule – kehrt sie für dieses besondere Event zurück nach Hause.\r\nBei der Lesung aus ihrem Buch Glow Your Own Way verbindet sie persönliche Geschichten\, praktische Tools und motivierende Botschaften zu einem Erlebnis\, das junge Frauen inspiriert und stärkt. Tessa spricht über Selbstbewusstsein\, innere Sicherheit\, äußere Souveränität\, Grenzen setzen\, authentische Weiblichkeit und darüber\, warum jede Frau das Recht hat\, ihren eigenen Weg zu gehen – ohne sich zu verbiegen oder klein zu machen. \r\n\r\nBeratungs- und Informationsstände verschiedener Institutionen bereichern\, wie im letzten Jahr schon\,  diese Veranstaltung.\r\n\r\nDafür schon einmal ein HERZLICHES DANKESCHÖN!\r\n   \r\n\r\n\r\n
URL;VALUE=URI:https://www.unser-ferienprogramm.de/bad-harzburg/veranstaltung.php?id=312338
SUMMARY:Junge Frauen stark machen- girls just need to have fundamental rights
DTSTART;TZID=Europe/Berlin:20260606T120000
END:VEVENT

END:VCALENDAR
