BEGIN:VCALENDAR
VERSION:2.0
PRODID:-//hacksw/handcal//NONSGML v1.0//EN
CALSCALE:GREGORIAN
BEGIN:VTIMEZONE
TZID:Europe/Berlin
X-LIC-LOCATION:Europe/Berlin
BEGIN:DAYLIGHT
TZOFFSETFROM:+0100
TZOFFSETTO:+0200
TZNAME:CEST
DTSTART:19700329T020000
RRULE:FREQ=YEARLY;BYDAY=-1SU;BYMONTH=3
END:DAYLIGHT
BEGIN:STANDARD
TZOFFSETFROM:+0200
TZOFFSETTO:+0100
TZNAME:CET
DTSTART:19701025T030000
RRULE:FREQ=YEARLY;BYDAY=-1SU;BYMONTH=10
END:STANDARD
END:VTIMEZONE
BEGIN:VEVENT
DTEND;TZID=Europe/Berlin:20260409T170000
UID:69e754c27e136
DTSTAMP:20260421T124314
LOCATION:Bad Harzburg
DESCRIPTION:\r\nNach den Osterfereien starten wir wieder mit euch durch - es geht in die neue Gartensaison! Das 3. Jahr in unseren beiden Kleingärten geht los.\r\nHier gibt es für alle Kleingärtner*innen immer viel zu tun\, auch wollen wir in diesem Jahr unsere Outdoorküche fertigstellen! Dann können wir im Garten immer frisch kochen!\r\n\r\nWir starten am Donnerstag immer am Jugentreff und laufen hoch in unseren Kleingarten (8 min Fussmarsch). \r\nDort pflanzen\, sähen\, werkeln und bauen\, verschöneren und ernten wir gemeinsam mit euch.\r\nWir legen auch Wege und Hochbeete an\, graben und buddeln\, erschaffen einen Kräutergarten\, Nistkästen werden gezimmert\, Hecken geschnitten\, Unkraut jäten\, Rasen mähen und und und....alles je nach Jahreszeiten und Wetter.\r\nAuch Workshops mit Imkern und passionierten Gärtner*innen werden uns bereichern.\r\n\r\nAuch hoffen wir auf ertragreiche Ernten unserer Hochbeete\, die wir dann im Rahmen unseres Kochtreffs mit euch aufessen.\r\n\r\nWir freuen uns auf interessierte und arbeitswillige Kleingärtner*innen!
URL;VALUE=URI:https://www.unser-ferienprogramm.de/bad-harzburg/veranstaltung.php?id=189225
SUMMARY:DONNERSTAG: "Ab ins Beet" - Unser Gartenprojekt
DTSTART;TZID=Europe/Berlin:20260409T150000
END:VEVENT


BEGIN:VEVENT
DTEND;TZID=Europe/Berlin:20260416T170000
UID:69e754c27e1531
DTSTAMP:20260421T124314
LOCATION:Bad Harzburg
DESCRIPTION:\r\nNach den Osterfereien starten wir wieder mit euch durch - es geht in die neue Gartensaison! Das 3. Jahr in unseren beiden Kleingärten geht los.\r\nHier gibt es für alle Kleingärtner*innen immer viel zu tun\, auch wollen wir in diesem Jahr unsere Outdoorküche fertigstellen! Dann können wir im Garten immer frisch kochen!\r\n\r\nWir starten am Donnerstag immer am Jugentreff und laufen hoch in unseren Kleingarten (8 min Fussmarsch). \r\nDort pflanzen\, sähen\, werkeln und bauen\, verschöneren und ernten wir gemeinsam mit euch.\r\nWir legen auch Wege und Hochbeete an\, graben und buddeln\, erschaffen einen Kräutergarten\, Nistkästen werden gezimmert\, Hecken geschnitten\, Unkraut jäten\, Rasen mähen und und und....alles je nach Jahreszeiten und Wetter.\r\nAuch Workshops mit Imkern und passionierten Gärtner*innen werden uns bereichern.\r\n\r\nAuch hoffen wir auf ertragreiche Ernten unserer Hochbeete\, die wir dann im Rahmen unseres Kochtreffs mit euch aufessen.\r\n\r\nWir freuen uns auf interessierte und arbeitswillige Kleingärtner*innen!
URL;VALUE=URI:https://www.unser-ferienprogramm.de/bad-harzburg/veranstaltung.php?id=189225
SUMMARY:DONNERSTAG: "Ab ins Beet" - Unser Gartenprojekt
DTSTART;TZID=Europe/Berlin:20260416T150000
END:VEVENT


BEGIN:VEVENT
DTEND;TZID=Europe/Berlin:20260423T170000
UID:69e754c27e1662
DTSTAMP:20260421T124314
LOCATION:Bad Harzburg
DESCRIPTION:\r\nNach den Osterfereien starten wir wieder mit euch durch - es geht in die neue Gartensaison! Das 3. Jahr in unseren beiden Kleingärten geht los.\r\nHier gibt es für alle Kleingärtner*innen immer viel zu tun\, auch wollen wir in diesem Jahr unsere Outdoorküche fertigstellen! Dann können wir im Garten immer frisch kochen!\r\n\r\nWir starten am Donnerstag immer am Jugentreff und laufen hoch in unseren Kleingarten (8 min Fussmarsch). \r\nDort pflanzen\, sähen\, werkeln und bauen\, verschöneren und ernten wir gemeinsam mit euch.\r\nWir legen auch Wege und Hochbeete an\, graben und buddeln\, erschaffen einen Kräutergarten\, Nistkästen werden gezimmert\, Hecken geschnitten\, Unkraut jäten\, Rasen mähen und und und....alles je nach Jahreszeiten und Wetter.\r\nAuch Workshops mit Imkern und passionierten Gärtner*innen werden uns bereichern.\r\n\r\nAuch hoffen wir auf ertragreiche Ernten unserer Hochbeete\, die wir dann im Rahmen unseres Kochtreffs mit euch aufessen.\r\n\r\nWir freuen uns auf interessierte und arbeitswillige Kleingärtner*innen!
URL;VALUE=URI:https://www.unser-ferienprogramm.de/bad-harzburg/veranstaltung.php?id=189225
SUMMARY:DONNERSTAG: "Ab ins Beet" - Unser Gartenprojekt
DTSTART;TZID=Europe/Berlin:20260423T150000
END:VEVENT


BEGIN:VEVENT
DTEND;TZID=Europe/Berlin:20260430T170000
UID:69e754c27e1763
DTSTAMP:20260421T124314
LOCATION:Bad Harzburg
DESCRIPTION:\r\nNach den Osterfereien starten wir wieder mit euch durch - es geht in die neue Gartensaison! Das 3. Jahr in unseren beiden Kleingärten geht los.\r\nHier gibt es für alle Kleingärtner*innen immer viel zu tun\, auch wollen wir in diesem Jahr unsere Outdoorküche fertigstellen! Dann können wir im Garten immer frisch kochen!\r\n\r\nWir starten am Donnerstag immer am Jugentreff und laufen hoch in unseren Kleingarten (8 min Fussmarsch). \r\nDort pflanzen\, sähen\, werkeln und bauen\, verschöneren und ernten wir gemeinsam mit euch.\r\nWir legen auch Wege und Hochbeete an\, graben und buddeln\, erschaffen einen Kräutergarten\, Nistkästen werden gezimmert\, Hecken geschnitten\, Unkraut jäten\, Rasen mähen und und und....alles je nach Jahreszeiten und Wetter.\r\nAuch Workshops mit Imkern und passionierten Gärtner*innen werden uns bereichern.\r\n\r\nAuch hoffen wir auf ertragreiche Ernten unserer Hochbeete\, die wir dann im Rahmen unseres Kochtreffs mit euch aufessen.\r\n\r\nWir freuen uns auf interessierte und arbeitswillige Kleingärtner*innen!
URL;VALUE=URI:https://www.unser-ferienprogramm.de/bad-harzburg/veranstaltung.php?id=189225
SUMMARY:DONNERSTAG: "Ab ins Beet" - Unser Gartenprojekt
DTSTART;TZID=Europe/Berlin:20260430T150000
END:VEVENT


BEGIN:VEVENT
DTEND;TZID=Europe/Berlin:20260507T170000
UID:69e754c27e1844
DTSTAMP:20260421T124314
LOCATION:Bad Harzburg
DESCRIPTION:\r\nNach den Osterfereien starten wir wieder mit euch durch - es geht in die neue Gartensaison! Das 3. Jahr in unseren beiden Kleingärten geht los.\r\nHier gibt es für alle Kleingärtner*innen immer viel zu tun\, auch wollen wir in diesem Jahr unsere Outdoorküche fertigstellen! Dann können wir im Garten immer frisch kochen!\r\n\r\nWir starten am Donnerstag immer am Jugentreff und laufen hoch in unseren Kleingarten (8 min Fussmarsch). \r\nDort pflanzen\, sähen\, werkeln und bauen\, verschöneren und ernten wir gemeinsam mit euch.\r\nWir legen auch Wege und Hochbeete an\, graben und buddeln\, erschaffen einen Kräutergarten\, Nistkästen werden gezimmert\, Hecken geschnitten\, Unkraut jäten\, Rasen mähen und und und....alles je nach Jahreszeiten und Wetter.\r\nAuch Workshops mit Imkern und passionierten Gärtner*innen werden uns bereichern.\r\n\r\nAuch hoffen wir auf ertragreiche Ernten unserer Hochbeete\, die wir dann im Rahmen unseres Kochtreffs mit euch aufessen.\r\n\r\nWir freuen uns auf interessierte und arbeitswillige Kleingärtner*innen!
URL;VALUE=URI:https://www.unser-ferienprogramm.de/bad-harzburg/veranstaltung.php?id=189225
SUMMARY:DONNERSTAG: "Ab ins Beet" - Unser Gartenprojekt
DTSTART;TZID=Europe/Berlin:20260507T150000
END:VEVENT


BEGIN:VEVENT
DTEND;TZID=Europe/Berlin:20260521T170000
UID:69e754c27e1925
DTSTAMP:20260421T124314
LOCATION:Bad Harzburg
DESCRIPTION:\r\nNach den Osterfereien starten wir wieder mit euch durch - es geht in die neue Gartensaison! Das 3. Jahr in unseren beiden Kleingärten geht los.\r\nHier gibt es für alle Kleingärtner*innen immer viel zu tun\, auch wollen wir in diesem Jahr unsere Outdoorküche fertigstellen! Dann können wir im Garten immer frisch kochen!\r\n\r\nWir starten am Donnerstag immer am Jugentreff und laufen hoch in unseren Kleingarten (8 min Fussmarsch). \r\nDort pflanzen\, sähen\, werkeln und bauen\, verschöneren und ernten wir gemeinsam mit euch.\r\nWir legen auch Wege und Hochbeete an\, graben und buddeln\, erschaffen einen Kräutergarten\, Nistkästen werden gezimmert\, Hecken geschnitten\, Unkraut jäten\, Rasen mähen und und und....alles je nach Jahreszeiten und Wetter.\r\nAuch Workshops mit Imkern und passionierten Gärtner*innen werden uns bereichern.\r\n\r\nAuch hoffen wir auf ertragreiche Ernten unserer Hochbeete\, die wir dann im Rahmen unseres Kochtreffs mit euch aufessen.\r\n\r\nWir freuen uns auf interessierte und arbeitswillige Kleingärtner*innen!
URL;VALUE=URI:https://www.unser-ferienprogramm.de/bad-harzburg/veranstaltung.php?id=189225
SUMMARY:DONNERSTAG: "Ab ins Beet" - Unser Gartenprojekt
DTSTART;TZID=Europe/Berlin:20260521T150000
END:VEVENT


BEGIN:VEVENT
DTEND;TZID=Europe/Berlin:20260528T170000
UID:69e754c27e19f6
DTSTAMP:20260421T124314
LOCATION:Bad Harzburg
DESCRIPTION:\r\nNach den Osterfereien starten wir wieder mit euch durch - es geht in die neue Gartensaison! Das 3. Jahr in unseren beiden Kleingärten geht los.\r\nHier gibt es für alle Kleingärtner*innen immer viel zu tun\, auch wollen wir in diesem Jahr unsere Outdoorküche fertigstellen! Dann können wir im Garten immer frisch kochen!\r\n\r\nWir starten am Donnerstag immer am Jugentreff und laufen hoch in unseren Kleingarten (8 min Fussmarsch). \r\nDort pflanzen\, sähen\, werkeln und bauen\, verschöneren und ernten wir gemeinsam mit euch.\r\nWir legen auch Wege und Hochbeete an\, graben und buddeln\, erschaffen einen Kräutergarten\, Nistkästen werden gezimmert\, Hecken geschnitten\, Unkraut jäten\, Rasen mähen und und und....alles je nach Jahreszeiten und Wetter.\r\nAuch Workshops mit Imkern und passionierten Gärtner*innen werden uns bereichern.\r\n\r\nAuch hoffen wir auf ertragreiche Ernten unserer Hochbeete\, die wir dann im Rahmen unseres Kochtreffs mit euch aufessen.\r\n\r\nWir freuen uns auf interessierte und arbeitswillige Kleingärtner*innen!
URL;VALUE=URI:https://www.unser-ferienprogramm.de/bad-harzburg/veranstaltung.php?id=189225
SUMMARY:DONNERSTAG: "Ab ins Beet" - Unser Gartenprojekt
DTSTART;TZID=Europe/Berlin:20260528T150000
END:VEVENT


BEGIN:VEVENT
DTEND;TZID=Europe/Berlin:20260604T170000
UID:69e754c27e1ad7
DTSTAMP:20260421T124314
LOCATION:Bad Harzburg
DESCRIPTION:\r\nNach den Osterfereien starten wir wieder mit euch durch - es geht in die neue Gartensaison! Das 3. Jahr in unseren beiden Kleingärten geht los.\r\nHier gibt es für alle Kleingärtner*innen immer viel zu tun\, auch wollen wir in diesem Jahr unsere Outdoorküche fertigstellen! Dann können wir im Garten immer frisch kochen!\r\n\r\nWir starten am Donnerstag immer am Jugentreff und laufen hoch in unseren Kleingarten (8 min Fussmarsch). \r\nDort pflanzen\, sähen\, werkeln und bauen\, verschöneren und ernten wir gemeinsam mit euch.\r\nWir legen auch Wege und Hochbeete an\, graben und buddeln\, erschaffen einen Kräutergarten\, Nistkästen werden gezimmert\, Hecken geschnitten\, Unkraut jäten\, Rasen mähen und und und....alles je nach Jahreszeiten und Wetter.\r\nAuch Workshops mit Imkern und passionierten Gärtner*innen werden uns bereichern.\r\n\r\nAuch hoffen wir auf ertragreiche Ernten unserer Hochbeete\, die wir dann im Rahmen unseres Kochtreffs mit euch aufessen.\r\n\r\nWir freuen uns auf interessierte und arbeitswillige Kleingärtner*innen!
URL;VALUE=URI:https://www.unser-ferienprogramm.de/bad-harzburg/veranstaltung.php?id=189225
SUMMARY:DONNERSTAG: "Ab ins Beet" - Unser Gartenprojekt
DTSTART;TZID=Europe/Berlin:20260604T150000
END:VEVENT


BEGIN:VEVENT
DTEND;TZID=Europe/Berlin:20260611T170000
UID:69e754c27e1ba8
DTSTAMP:20260421T124314
LOCATION:Bad Harzburg
DESCRIPTION:\r\nNach den Osterfereien starten wir wieder mit euch durch - es geht in die neue Gartensaison! Das 3. Jahr in unseren beiden Kleingärten geht los.\r\nHier gibt es für alle Kleingärtner*innen immer viel zu tun\, auch wollen wir in diesem Jahr unsere Outdoorküche fertigstellen! Dann können wir im Garten immer frisch kochen!\r\n\r\nWir starten am Donnerstag immer am Jugentreff und laufen hoch in unseren Kleingarten (8 min Fussmarsch). \r\nDort pflanzen\, sähen\, werkeln und bauen\, verschöneren und ernten wir gemeinsam mit euch.\r\nWir legen auch Wege und Hochbeete an\, graben und buddeln\, erschaffen einen Kräutergarten\, Nistkästen werden gezimmert\, Hecken geschnitten\, Unkraut jäten\, Rasen mähen und und und....alles je nach Jahreszeiten und Wetter.\r\nAuch Workshops mit Imkern und passionierten Gärtner*innen werden uns bereichern.\r\n\r\nAuch hoffen wir auf ertragreiche Ernten unserer Hochbeete\, die wir dann im Rahmen unseres Kochtreffs mit euch aufessen.\r\n\r\nWir freuen uns auf interessierte und arbeitswillige Kleingärtner*innen!
URL;VALUE=URI:https://www.unser-ferienprogramm.de/bad-harzburg/veranstaltung.php?id=189225
SUMMARY:DONNERSTAG: "Ab ins Beet" - Unser Gartenprojekt
DTSTART;TZID=Europe/Berlin:20260611T150000
END:VEVENT


BEGIN:VEVENT
DTEND;TZID=Europe/Berlin:20260618T170000
UID:69e754c27e1c79
DTSTAMP:20260421T124314
LOCATION:Bad Harzburg
DESCRIPTION:\r\nNach den Osterfereien starten wir wieder mit euch durch - es geht in die neue Gartensaison! Das 3. Jahr in unseren beiden Kleingärten geht los.\r\nHier gibt es für alle Kleingärtner*innen immer viel zu tun\, auch wollen wir in diesem Jahr unsere Outdoorküche fertigstellen! Dann können wir im Garten immer frisch kochen!\r\n\r\nWir starten am Donnerstag immer am Jugentreff und laufen hoch in unseren Kleingarten (8 min Fussmarsch). \r\nDort pflanzen\, sähen\, werkeln und bauen\, verschöneren und ernten wir gemeinsam mit euch.\r\nWir legen auch Wege und Hochbeete an\, graben und buddeln\, erschaffen einen Kräutergarten\, Nistkästen werden gezimmert\, Hecken geschnitten\, Unkraut jäten\, Rasen mähen und und und....alles je nach Jahreszeiten und Wetter.\r\nAuch Workshops mit Imkern und passionierten Gärtner*innen werden uns bereichern.\r\n\r\nAuch hoffen wir auf ertragreiche Ernten unserer Hochbeete\, die wir dann im Rahmen unseres Kochtreffs mit euch aufessen.\r\n\r\nWir freuen uns auf interessierte und arbeitswillige Kleingärtner*innen!
URL;VALUE=URI:https://www.unser-ferienprogramm.de/bad-harzburg/veranstaltung.php?id=189225
SUMMARY:DONNERSTAG: "Ab ins Beet" - Unser Gartenprojekt
DTSTART;TZID=Europe/Berlin:20260618T150000
END:VEVENT

END:VCALENDAR
