BEGIN:VCALENDAR
VERSION:2.0
PRODID:-//hacksw/handcal//NONSGML v1.0//EN
CALSCALE:GREGORIAN
BEGIN:VTIMEZONE
TZID:Europe/Berlin
X-LIC-LOCATION:Europe/Berlin
BEGIN:DAYLIGHT
TZOFFSETFROM:+0100
TZOFFSETTO:+0200
TZNAME:CEST
DTSTART:19700329T020000
RRULE:FREQ=YEARLY;BYDAY=-1SU;BYMONTH=3
END:DAYLIGHT
BEGIN:STANDARD
TZOFFSETFROM:+0200
TZOFFSETTO:+0100
TZNAME:CET
DTSTART:19701025T030000
RRULE:FREQ=YEARLY;BYDAY=-1SU;BYMONTH=10
END:STANDARD
END:VTIMEZONE
BEGIN:VEVENT
DTEND;TZID=Europe/Berlin:20260531T000000
UID:69e76c7ce1f03
DTSTAMP:20260421T142428
LOCATION:
DESCRIPTION:Das "Bildungs- und Teilhabepaket"\r\n\r\nKinder und Jugendliche aus Familien mit geringem Einkommen sollen gleichberechtigt Angebote in Schule und Freizeit nutzen können. Für zahlreiche Aktivitäten können bedürftige Familien Zuschüsse beim zuständigen Jobcenter beantragen\, also als Bad Harzburger*innen beim Jobcenter in Goslar.\r\n\r\nWas kann alles gefördert werden? Hier einige Beispiele: \r\n- Ausflüge und Fahrten \r\n- Beiträge für Freizeiten\, Kurse und Vereine\r\n- Schülerbeförderung\r\n- Lernförderung\r\n- persönlicher Schulbedarf\r\n- Mittagsverpflegung\r\n\r\nALLE Informationen (auch als Film) in diversen Sprachen\, hat das JobCenter Braunschweig dankenswerterweise zusammengestellt. Hier einfach auf den Link klicken: \r\nhttps://jobcenter.braunschweig.de/leistungen/bildungspaket.php\r\n\r\nHier findet man alle Infos und Ansprechpartner*innen des Jobccenters Goslar in der Übersicht:\r\nhttps://www.landkreis-goslar.de/bildungspaket\r\n\r\nDas entsprechende Antragsformular für Leistungen durch das JobCenter Goslar findet sich hier im Angebot unter Infomaterial / pdf.\r\n
URL;VALUE=URI:https://www.unser-ferienprogramm.de/bad-harzburg/veranstaltung.php?id=158329
SUMMARY:Bildungs- und Teilhabepaket (BuT) - alle Informationen auch multilingual
DTSTART;TZID=Europe/Berlin:20260420T000000
END:VEVENT

END:VCALENDAR
