BEGIN:VCALENDAR
VERSION:2.0
PRODID:-//hacksw/handcal//NONSGML v1.0//EN
CALSCALE:GREGORIAN
BEGIN:VTIMEZONE
TZID:Europe/Berlin
X-LIC-LOCATION:Europe/Berlin
BEGIN:DAYLIGHT
TZOFFSETFROM:+0100
TZOFFSETTO:+0200
TZNAME:CEST
DTSTART:19700329T020000
RRULE:FREQ=YEARLY;BYDAY=-1SU;BYMONTH=3
END:DAYLIGHT
BEGIN:STANDARD
TZOFFSETFROM:+0200
TZOFFSETTO:+0100
TZNAME:CET
DTSTART:19701025T030000
RRULE:FREQ=YEARLY;BYDAY=-1SU;BYMONTH=10
END:STANDARD
END:VTIMEZONE
BEGIN:VEVENT
DTEND;TZID=Europe/Berlin:20260531T000000
UID:69e76c7a16250
DTSTAMP:20260421T142426
LOCATION:
DESCRIPTION:Liebe Institutionen\, Gewerbetreibende\, Handwerker*innen\, Firmen\, Vereine und kreative Privatpersonen aus Bad Harzburg und dem Landkreis\,\r\n\r\nwir laden euch herzlich ein\, Teil des Ferienpasses in unserer Stadt Bad Harzburg und dem umliegenden Landkreis zu werden. Gemeinsam mit euch möchten wir die Jugendlichen begeistern und Sommererlebnisse ermöglichen. Es ist eine Gelegenheit\, eure Talente\, euer Wissen und eurer Engegement in der Jugendarbeit einzubringen und gleichzeitig einen positiven Beitrag zur Entwicklung unserer jungen Generation zu leisten.\r\n\r\nOb ihr kreative Workshops anbieten könnt\, kulinarische Künste beherrscht\, sportliche Aktivitäten anbietet\, Naturerlebnisse ermöglicht oder einfach "nur" Lust habt\, euer Fachwissen mit anderen zu teilen - wir freuen uns erstmal über jede Idee und jedes Engagement für die Kids und Jugendlichen vor Ort. Die Möglichkeiten sind vielfältig! Gern stehen wir für die Ideenfindung\, bei der Projekt/Aktionsplanung und Durchführung helfend zur Seite - lasst uns einfach darüber reden und aus einer Idee ein Projekt gestalten...\r\n\r\nEgal\, ob ihr eine Einzelveranstaltung oder eine Workshop-Reihe anbieten möchtet\, wir geben euch die Plattform.\r\nDie Zusammenarbeit mit uns bietet so manchen Vorteil. Ihr könnt neue Kontakte knüpfen\, euer Netzwerk in der Region erweitern und euren guten Ruf als Teil unserer Gemeinschaft stärken. Darüber hinaus könnt ihr die Möglichkeit nutzen\, eure Expertise einer jungen Zielgruppe nahezubringen und vielleicht sogar den Funken für eine langanhaltende Leidenschaft zu entfachen - die Arbeit mit Kindern und Jugendlichen!\r\n\r\nSeid Teil unseres Ferienprogramms und bereichert das Leben unserer Jugendlichen hier in Bad Harzburg. Wir sorgen dafür\, dass eure Veranstaltungen gezielt beworben werden und die Teilnehmer*innen mit Begeisterung an euren Angeboten teilnehmen.\r\n\r\nMeldet euch noch heute als Veranstalter*in für den Ferienpass an und lasst uns gemeinsam die Ferien zu einem schönen Erlebnis mit inspirierenden Erfahrungen machen! \r\n\r\nWir freuen uns darauf\, mit euch zusammenzuarbeiten\, für eine gute Jugendarbeit hier vor Ort!\r\n\r\nMit herzlichen Grüßen\,\r\ndie Jugendförderung Bad Harzburg
URL;VALUE=URI:https://www.unser-ferienprogramm.de/bad-harzburg/veranstaltung.php?id=151687
SUMMARY:Mach den Ferienpass in Bad Harzburg noch besser - Sei dabei als Veranstalter*in!
DTSTART;TZID=Europe/Berlin:20260420T000000
END:VEVENT

END:VCALENDAR
