BEGIN:VCALENDAR
VERSION:2.0
PRODID:-//hacksw/handcal//NONSGML v1.0//EN
CALSCALE:GREGORIAN
BEGIN:VTIMEZONE
TZID:Europe/Berlin
X-LIC-LOCATION:Europe/Berlin
BEGIN:DAYLIGHT
TZOFFSETFROM:+0100
TZOFFSETTO:+0200
TZNAME:CEST
DTSTART:19700329T020000
RRULE:FREQ=YEARLY;BYDAY=-1SU;BYMONTH=3
END:DAYLIGHT
BEGIN:STANDARD
TZOFFSETFROM:+0200
TZOFFSETTO:+0100
TZNAME:CET
DTSTART:19701025T030000
RRULE:FREQ=YEARLY;BYDAY=-1SU;BYMONTH=10
END:STANDARD
END:VTIMEZONE
BEGIN:VEVENT
DTEND;TZID=Europe/Berlin:20260812T235900
UID:69e755c462b6a
DTSTAMP:20260421T124732
LOCATION:Bad Harzburg
DESCRIPTION:Im Zeitraum vom 02.07. - 12.08.2026 sind in diesem Jahr die Sommerferien in Niedersachsen.\r\n\r\n1.)\r\nDie ANMELDEPHASE 1 startet am 27.05. und läuft bis zum 14.06.26 um 23:59 Uhr!\r\nAlle von euch/ihnen ausgewählten Angebote sind in diesen Zeitraum mit einem "W" (für Warteliste) versehen. \r\n\r\n2.)\r\nAm 15.06. findet die Verlosung der Angebotsplätze statt. Im Anschluss werden die Bestätigungsmails verschickt (ZUTEILUNGSPHASE). \r\nDas bisherige "W" verändert sich dementsprechend in ein "Z" (für Zuteilung\; so ihr für das Angebot ausgelost wurdet).\r\nBleibt das "W" bestehen\, seid ihr weiter auf der Warteliste.\r\n(Info: eine Verlosung erfolgt nur bei einer Überbuchung\, also bei mehr Anmeldungen als Plätzen. Die Verlosung erfolgt automatisch durch das Programm und NICHT durch uns.)\r\n\r\n3.)\r\nDie Bezahlung des offenen Betrags muss ZEITNAH ab dem 15.06. in bar im Jugendtreff oder per Überweisung erfolgen (BEZAHLPHASE 1). \r\nFindet eine Anmeldung für ein Angebot mit noch freien Plätzen ab dem 17.06. statt (ANMELDEPHASE 2)\, ist der Betrag innerhalb von 3 Werktagen zu bezahlen. \r\n\r\n4.)\r\nSolltet ihr aus irgendwelchen Gründen an euren gebuchten Ferienangeboten nicht teilnehmen können\, meldet euch doch bitte ab. Gebt anderen Kids die Möglichkeit nachzurücken\, wenn ihr nicht könnt!!\r\n\r\n5.)\r\nStornierungen werden (nach entsprechender Abmeldung per Email oder Telefon) durch uns durchgeführt.\r\nBis zu 14 Tage vor dem gebuchten Angebot ist eine Stornierung kostenlos\, danach in der Regel kostenpflichtig.\r\n\r\nRückfragen/Infos über "info@jugend-treff.de" oder unter "05322/87673"\r\n\r\n\r\n
URL;VALUE=URI:https://www.unser-ferienprogramm.de/bad-harzburg/veranstaltung.php?id=145901
SUMMARY:+++Wichtige Informationen zum Sommer-Ferienprogramm+++
DTSTART;TZID=Europe/Berlin:20260702T000500
END:VEVENT

END:VCALENDAR
