BEGIN:VCALENDAR
VERSION:2.0
PRODID:-//hacksw/handcal//NONSGML v1.0//EN
CALSCALE:GREGORIAN
BEGIN:VTIMEZONE
TZID:Europe/Berlin
X-LIC-LOCATION:Europe/Berlin
BEGIN:DAYLIGHT
TZOFFSETFROM:+0100
TZOFFSETTO:+0200
TZNAME:CEST
DTSTART:19700329T020000
RRULE:FREQ=YEARLY;BYDAY=-1SU;BYMONTH=3
END:DAYLIGHT
BEGIN:STANDARD
TZOFFSETFROM:+0200
TZOFFSETTO:+0100
TZNAME:CET
DTSTART:19701025T030000
RRULE:FREQ=YEARLY;BYDAY=-1SU;BYMONTH=10
END:STANDARD
END:VTIMEZONE
BEGIN:VEVENT
DTEND;TZID=Europe/Berlin:20270903T170000
UID:69e9137ccfd9b
DTSTAMP:20260422T202916
LOCATION:Kernzeitenraum in der GS Balg
DESCRIPTION:Sonne und Spaß pur und dafür ist keine lange Reise nötig! Diesen Sommer füllen wir eure Ferien mit Abenteuern. Freut euch auf spannende Tage voller Spiele\, Bastelaktionen und Ausflüge in der Nähe. Seid ihr bereit für eine Sommerzeit\, die ihr nie vergessen werdet?\r\nWir sorgen dafür\, dass es an nichts fehlt! Freut euch auf eine abwechslungsreiche Verpflegung mit einem warmen Mittagessen und einem kleinen Snack am Nachmittag. \r\n\r\nUnsere Betreuungszeiten von 7:00 bis 17:00 Uhr sind flexibel gestaltet\, sodass es kein Problem ist\, wenn Ihr Kind später kommt oder früher abgeholt wird. \r\n\r\nDiese Betreuung ist ein Angebot für Kinder der Grundschulklassen 1-4 mit Wohnsitz in Baden-Baden.
URL;VALUE=URI:https://www.unser-ferienprogramm.de/awo-baden-baden/veranstaltung.php?id=311653
SUMMARY:Ferienbetreuung Sommer V 2027
DTSTART;TZID=Europe/Berlin:20270830T070000
END:VEVENT

END:VCALENDAR
