BEGIN:VCALENDAR
VERSION:2.0
PRODID:-//hacksw/handcal//NONSGML v1.0//EN
CALSCALE:GREGORIAN
BEGIN:VTIMEZONE
TZID:Europe/Berlin
X-LIC-LOCATION:Europe/Berlin
BEGIN:DAYLIGHT
TZOFFSETFROM:+0100
TZOFFSETTO:+0200
TZNAME:CEST
DTSTART:19700329T020000
RRULE:FREQ=YEARLY;BYDAY=-1SU;BYMONTH=3
END:DAYLIGHT
BEGIN:STANDARD
TZOFFSETFROM:+0200
TZOFFSETTO:+0100
TZNAME:CET
DTSTART:19701025T030000
RRULE:FREQ=YEARLY;BYDAY=-1SU;BYMONTH=10
END:STANDARD
END:VTIMEZONE
BEGIN:VEVENT
DTEND;TZID=Europe/Berlin:20270402T170000
UID:69e9148243b40
DTSTAMP:20260422T203338
LOCATION:Kernzeitenraum in der GS Balg
DESCRIPTION:Ostern bei uns ist mehr als Eiersuche! Freut euch auf tolle Spiele\, kreatives Basteln und spannende Ausflüge. Unser Team kümmert sich darum\, dass die Kinder eine (oder zwei) tolle Ferienwoche(n) haben\, in der Spaß und Abenteuer Hand in Hand gehen!\r\n\r\nWir sorgen dafür\, dass es an nichts fehlt! Freut euch auf eine abwechslungsreiche Verpflegung mit einem warmen Mittagessen und einem kleinen Snack am Nachmittag. \r\n\r\nUnsere Betreuungszeiten von 7:00 bis 17:00 Uhr sind flexibel gestaltet\, sodass es kein Problem ist\, wenn Ihr Kind später kommt oder früher abgeholt wird. \r\n\r\nDiese Betreuung ist ein Angebot für Kinder der Grundschulklassen 1-4 mit Wohnsitz in Baden-Baden.\r\n
URL;VALUE=URI:https://www.unser-ferienprogramm.de/awo-baden-baden/veranstaltung.php?id=299570
SUMMARY:Ferienbetreuung Ostern 2027
DTSTART;TZID=Europe/Berlin:20270330T070000
END:VEVENT

END:VCALENDAR
