BEGIN:VCALENDAR
VERSION:2.0
PRODID:-//hacksw/handcal//NONSGML v1.0//EN
CALSCALE:GREGORIAN
BEGIN:VTIMEZONE
TZID:Europe/Berlin
X-LIC-LOCATION:Europe/Berlin
BEGIN:DAYLIGHT
TZOFFSETFROM:+0100
TZOFFSETTO:+0200
TZNAME:CEST
DTSTART:19700329T020000
RRULE:FREQ=YEARLY;BYDAY=-1SU;BYMONTH=3
END:DAYLIGHT
BEGIN:STANDARD
TZOFFSETFROM:+0200
TZOFFSETTO:+0100
TZNAME:CET
DTSTART:19701025T030000
RRULE:FREQ=YEARLY;BYDAY=-1SU;BYMONTH=10
END:STANDARD
END:VTIMEZONE
BEGIN:VEVENT
DTEND;TZID=Europe/Berlin:20270212T170000
UID:69e91482bac4f
DTSTAMP:20260422T203338
LOCATION:Kernzeitenraum in der GS Balg
DESCRIPTION:Unsere Ferienbetreuung startet dieses Jahr mit einem farbenfrohen Fasching! Von Rosenmontag bis „Ascherfreitag“ haben wir\, egal ob ihr Fasching liebt oder nicht so sehr\, etwas Besonderes für euch. Unser Team plant voller Leidenschaft ein spannendes Programm mit Spielen\, Bastelaktionen und vielleicht sogar einem Ausflug. Seid ihr alle bereit für einen Haufen Spaß?\r\n\r\nWir sorgen dafür\, dass es an nichts fehlt! Freut euch auf eine abwechslungsreiche Verpflegung mit einem warmen Mittagessen und einem kleinen Snack am Nachmittag. \r\n\r\nUnsere Betreuungszeiten von 7:00 bis 17:00 Uhr sind flexibel gestaltet\, sodass es kein Problem ist\, wenn Ihr Kind später kommt oder früher abgeholt wird. \r\n\r\nDiese Betreuung ist ein Angebot für Kinder der Grundschulklassen 1-4 mit Wohnsitz in Baden-Baden.\r\n
URL;VALUE=URI:https://www.unser-ferienprogramm.de/awo-baden-baden/veranstaltung.php?id=299550
SUMMARY:Ferienbetreuung Fasching 2027
DTSTART;TZID=Europe/Berlin:20270208T070000
END:VEVENT

END:VCALENDAR
