BEGIN:VCALENDAR
VERSION:2.0
PRODID:-//hacksw/handcal//NONSGML v1.0//EN
CALSCALE:GREGORIAN
BEGIN:VTIMEZONE
TZID:Europe/Berlin
X-LIC-LOCATION:Europe/Berlin
BEGIN:DAYLIGHT
TZOFFSETFROM:+0100
TZOFFSETTO:+0200
TZNAME:CEST
DTSTART:19700329T020000
RRULE:FREQ=YEARLY;BYDAY=-1SU;BYMONTH=3
END:DAYLIGHT
BEGIN:STANDARD
TZOFFSETFROM:+0200
TZOFFSETTO:+0100
TZNAME:CET
DTSTART:19701025T030000
RRULE:FREQ=YEARLY;BYDAY=-1SU;BYMONTH=10
END:STANDARD
END:VTIMEZONE
BEGIN:VEVENT
DTEND;TZID=Europe/Berlin:20270108T170000
UID:69e914d52fc2a
DTSTAMP:20260422T203501
LOCATION:Kernzeitenraum in der GS Balg
DESCRIPTION:Die Geschenke sind ausgepackt\, und jetzt? Bevor die Langeweile eintrifft\, kann Ihr Kind spannende Tage in unserer Weihnachtsferienbetreuung erleben. Zusammen machen wir diese Zeiten zu einem Abenteuer voller Spaß.  Wir freuen uns\, viele lachende Gesichter zu sehen und zusammen unvergessliche Momente zu erleben! Seid ihr bereit für dieses Abenteuer?\r\n\r\nFür eine abwechslungsreiche Verpflegung (ein warmes Mittagessen und ein kleiner Snack am Nachmittag) ist gesorgt.\r\n\r\nUnsere Betreuungszeiten von 7:00 bis 17:00 Uhr sind flexibel gestaltet\, sodass es kein Problem ist\, wenn Ihr Kind später kommt oder früher abgeholt wird. \r\n\r\nDiese Betreuung ist ein Angebot für Kinder der Grundschulklassen 1-4 mit Wohnsitz in Baden-Baden.
URL;VALUE=URI:https://www.unser-ferienprogramm.de/awo-baden-baden/veranstaltung.php?id=298118
SUMMARY:Ferienbetreuung Weihnachten 2026/2027
DTSTART;TZID=Europe/Berlin:20270104T070000
END:VEVENT

END:VCALENDAR
