BEGIN:VCALENDAR
VERSION:2.0
PRODID:-//hacksw/handcal//NONSGML v1.0//EN
CALSCALE:GREGORIAN
BEGIN:VTIMEZONE
TZID:Europe/Berlin
X-LIC-LOCATION:Europe/Berlin
BEGIN:DAYLIGHT
TZOFFSETFROM:+0100
TZOFFSETTO:+0200
TZNAME:CEST
DTSTART:19700329T020000
RRULE:FREQ=YEARLY;BYDAY=-1SU;BYMONTH=3
END:DAYLIGHT
BEGIN:STANDARD
TZOFFSETFROM:+0200
TZOFFSETTO:+0100
TZNAME:CET
DTSTART:19701025T030000
RRULE:FREQ=YEARLY;BYDAY=-1SU;BYMONTH=10
END:STANDARD
END:VTIMEZONE
BEGIN:VEVENT
DTEND;TZID=Europe/Berlin:20261030T170000
UID:69e914d5809fe
DTSTAMP:20260422T203501
LOCATION:Kernzeitenraum in der GS Balg
DESCRIPTION:Lasst euch durch das graue Herbstwetter nicht runterziehen! Selbst bei Regen oder Nebel gibt es für euch ein spannendes Programm. In den großen Gruppenräumen der Kernzeitbetreuung und in der Schulsporthalle ist viel Platz. Dort können sich die Kinder kreativ austoben und gemeinsam neue Spiele entdecken! Und in der Umgebung bietet die Natur farbenfrohes Bastelmaterial zum Sammeln.\r\n\r\nWir sorgen dafür\, dass es an nichts fehlt! Freut euch auf eine abwechslungsreiche Verpflegung mit einem warmen Mittagessen und einem kleinen Snack am Nachmittag. \r\n\r\nDiese Betreuung ist ein Angebot für Kinder der Grundschulklassen 1-4 mit Wohnsitz in Baden-Baden.
URL;VALUE=URI:https://www.unser-ferienprogramm.de/awo-baden-baden/veranstaltung.php?id=24881
SUMMARY:Ferienbetreuung Herbst 2026
DTSTART;TZID=Europe/Berlin:20261026T070000
END:VEVENT

END:VCALENDAR
