BEGIN:VCALENDAR
VERSION:2.0
PRODID:-//hacksw/handcal//NONSGML v1.0//EN
CALSCALE:GREGORIAN
BEGIN:VTIMEZONE
TZID:Europe/Berlin
X-LIC-LOCATION:Europe/Berlin
BEGIN:DAYLIGHT
TZOFFSETFROM:+0100
TZOFFSETTO:+0200
TZNAME:CEST
DTSTART:19700329T020000
RRULE:FREQ=YEARLY;BYDAY=-1SU;BYMONTH=3
END:DAYLIGHT
BEGIN:STANDARD
TZOFFSETFROM:+0200
TZOFFSETTO:+0100
TZNAME:CET
DTSTART:19701025T030000
RRULE:FREQ=YEARLY;BYDAY=-1SU;BYMONTH=10
END:STANDARD
END:VTIMEZONE
BEGIN:VEVENT
DTEND;TZID=Europe/Berlin:20260814T173000
UID:69e8e67c70cb9
DTSTAMP:20260422T171716
LOCATION:Else-Stolz-Heim am Unterplättig
DESCRIPTION:Die Sommerferien machen Spaß! Für Kinder von 6 bis 10\, die abends heim möchten\, gibt's bei uns eine tolle Ferienbetreuung. Die Eltern können durchatmen\, während ihre Kids mit Freunden spielen\, lachen und eine super Zeit haben. Bei uns im Else-Stolz-Heim kümmern sich liebe BetreuerInnen und eine Spitzenküche um alles. Es wird nie langweilig\, versprochen!
URL;VALUE=URI:https://www.unser-ferienprogramm.de/awo-baden-baden/veranstaltung.php?id=14999
SUMMARY:Stadtranderholung
DTSTART;TZID=Europe/Berlin:20260803T080000
END:VEVENT

END:VCALENDAR
