BEGIN:VCALENDAR
VERSION:2.0
PRODID:-//hacksw/handcal//NONSGML v1.0//EN
CALSCALE:GREGORIAN
BEGIN:VTIMEZONE
TZID:Europe/Berlin
X-LIC-LOCATION:Europe/Berlin
BEGIN:DAYLIGHT
TZOFFSETFROM:+0100
TZOFFSETTO:+0200
TZNAME:CEST
DTSTART:19700329T020000
RRULE:FREQ=YEARLY;BYDAY=-1SU;BYMONTH=3
END:DAYLIGHT
BEGIN:STANDARD
TZOFFSETFROM:+0200
TZOFFSETTO:+0100
TZNAME:CET
DTSTART:19701025T030000
RRULE:FREQ=YEARLY;BYDAY=-1SU;BYMONTH=10
END:STANDARD
END:VTIMEZONE
BEGIN:VEVENT
DTEND;TZID=Europe/Berlin:20260530T130000
UID:69e8eb7515f99
DTSTAMP:20260422T173829
LOCATION:Else-Stolz-Heim am Unterplättig
DESCRIPTION:Dieses Pfingsten ist es wieder soweit: Wir laden euch ein zum Übernachten im Else-Stolz-Heim! Freut euch auf spannende Tage voller Abenteuer in unserer gemütlichen Hütte an der Schwarzwaldhochstraße. Unsere erfahrenen Betreuer kümmern sich mit viel Herz um euch. Gleichzeitig zaubert unsere Küchenmannschaft leckere Gerichte\, die euch schmecken werden.
URL;VALUE=URI:https://www.unser-ferienprogramm.de/awo-baden-baden/veranstaltung.php?id=14996
SUMMARY:Pfingstfreizeit
DTSTART;TZID=Europe/Berlin:20260526T120000
END:VEVENT

END:VCALENDAR
