BEGIN:VCALENDAR
VERSION:2.0
PRODID:-//hacksw/handcal//NONSGML v1.0//EN
CALSCALE:GREGORIAN
BEGIN:VTIMEZONE
TZID:Europe/Berlin
X-LIC-LOCATION:Europe/Berlin
BEGIN:DAYLIGHT
TZOFFSETFROM:+0100
TZOFFSETTO:+0200
TZNAME:CEST
DTSTART:19700329T020000
RRULE:FREQ=YEARLY;BYDAY=-1SU;BYMONTH=3
END:DAYLIGHT
BEGIN:STANDARD
TZOFFSETFROM:+0200
TZOFFSETTO:+0100
TZNAME:CET
DTSTART:19701025T030000
RRULE:FREQ=YEARLY;BYDAY=-1SU;BYMONTH=10
END:STANDARD
END:VTIMEZONE
BEGIN:VEVENT
DTEND;TZID=Europe/Berlin:20260918T153000
UID:69e914d635a02
DTSTAMP:20260422T203502
LOCATION:wird noch bekannt gegeben
DESCRIPTION:Eine spannende Woche wartet auf die frischen Erstklässler\, bevor es ernst wird! Viele ihrer Freunde sind schon in der Schule oder im Kindergarten. Zu Hause könnte es also langweilig werden. Diese Woche ist voller Spaß und Spiel\, genau richtig für die Kids. Unser Team kümmert sich liebevoll darum\, dass keine Langeweile aufkommt! Wir sorgen dafür\, dass es an nichts fehlt! Freut euch auf eine abwechslungsreiche Verpflegung mit einem warmen Mittagessen und einem kleinen Snack am Nachmittag. \r\n\r\nDie täglichen Betreuungszeiten von 7:30 bis 15:30 Uhr sind flexibel gestaltet\, sodass es kein Problem ist\, wenn Ihr Kind später kommt oder früher abgeholt wird. \r\n\r\nDiese Betreuung ist ein Angebot für ABC-Schützen-Kinder mit Wohnsitz in Baden-Baden.
URL;VALUE=URI:https://www.unser-ferienprogramm.de/awo-baden-baden/veranstaltung.php?id=121048
SUMMARY:Ferienbetreuung Sommer VII ABC-Schützen Spezial
DTSTART;TZID=Europe/Berlin:20260914T073000
END:VEVENT

END:VCALENDAR
