BEGIN:VCALENDAR
VERSION:2.0
PRODID:-//hacksw/handcal//NONSGML v1.0//EN
CALSCALE:GREGORIAN
BEGIN:VTIMEZONE
TZID:Europe/Berlin
X-LIC-LOCATION:Europe/Berlin
BEGIN:DAYLIGHT
TZOFFSETFROM:+0100
TZOFFSETTO:+0200
TZNAME:CEST
DTSTART:19700329T020000
RRULE:FREQ=YEARLY;BYDAY=-1SU;BYMONTH=3
END:DAYLIGHT
BEGIN:STANDARD
TZOFFSETFROM:+0200
TZOFFSETTO:+0100
TZNAME:CET
DTSTART:19701025T030000
RRULE:FREQ=YEARLY;BYDAY=-1SU;BYMONTH=10
END:STANDARD
END:VTIMEZONE
BEGIN:VEVENT
DTEND;TZID=Europe/Berlin:20260807T150000
UID:69eb4e3aad730
DTSTAMP:20260424T130426
LOCATION:Parkplatz Rathaus Arnstorf
DESCRIPTION:Ihr werdet in die Welt der Steinzeitmenschen entführt und lernt vieles aus dem täglichen Leben unserer Vorfahren kennen. Ihr dürft Feuer mit Steinen erzeugen\, Muschelschmuck und Steinzeitpfeile basteln oder Steinzeitbohrer herstellen.
URL;VALUE=URI:https://www.unser-ferienprogramm.de/arnstorf/veranstaltung.php?id=318268
SUMMARY:Steinzeit live
DTSTART;TZID=Europe/Berlin:20260807T130000
END:VEVENT

END:VCALENDAR
