BEGIN:VCALENDAR
VERSION:2.0
PRODID:-//hacksw/handcal//NONSGML v1.0//EN
CALSCALE:GREGORIAN
BEGIN:VTIMEZONE
TZID:Europe/Berlin
X-LIC-LOCATION:Europe/Berlin
BEGIN:DAYLIGHT
TZOFFSETFROM:+0100
TZOFFSETTO:+0200
TZNAME:CEST
DTSTART:19700329T020000
RRULE:FREQ=YEARLY;BYDAY=-1SU;BYMONTH=3
END:DAYLIGHT
BEGIN:STANDARD
TZOFFSETFROM:+0200
TZOFFSETTO:+0100
TZNAME:CET
DTSTART:19701025T030000
RRULE:FREQ=YEARLY;BYDAY=-1SU;BYMONTH=10
END:STANDARD
END:VTIMEZONE
BEGIN:VEVENT
DTEND;TZID=Europe/Berlin:20260808T103000
UID:69ed661e747e6
DTSTAMP:20260426T031054
LOCATION:Jugendhaus Volkersberg\, Bungalowdorf
DESCRIPTION:Hast Du Lust auf eine Woche voller Spiel und Spaß?\r\nDann ist die Abenteuerfreizeit in der ersten Sommerferienwoche genau das Richtige für Dich. \r\n\r\nWir freuen uns auf ...\r\n... gemeinsame Lagerfeuerabende \r\n... einen spaßigen Discoabend \r\n... kreative Workshops \r\n... die ein oder andere Herausforderung \r\n... eine gruselige Nachtwanderung\r\n... abkühlende Wasserschlachten \r\n... neue Freundschaften \r\n... und viele lustige und schöne Erlebnisse \r\n\r\n... Dich!\r\n\r\nAuf unserem Gelände gibt es einen großen Fußballplatz\, ein Beachvolleyballfeld\, Tischtennisplatten\, Tischkicker\, Spielekisten und Bastelmaterialien. \r\nNicht zu vergessen sind die Bungalows\, in denen Du\r\nmit bis zu sieben anderen Kindern eine Woche übernachtest. 
URL;VALUE=URI:https://www.unser-ferienprogramm.de/arnstein/veranstaltung.php?id=314822
SUMMARY:Abenteuerfreizeit Volkersberg
DTSTART;TZID=Europe/Berlin:20260801T140000
END:VEVENT

END:VCALENDAR
