BEGIN:VCALENDAR
VERSION:2.0
PRODID:-//hacksw/handcal//NONSGML v1.0//EN
CALSCALE:GREGORIAN
BEGIN:VTIMEZONE
TZID:Europe/Berlin
X-LIC-LOCATION:Europe/Berlin
BEGIN:DAYLIGHT
TZOFFSETFROM:+0100
TZOFFSETTO:+0200
TZNAME:CEST
DTSTART:19700329T020000
RRULE:FREQ=YEARLY;BYDAY=-1SU;BYMONTH=3
END:DAYLIGHT
BEGIN:STANDARD
TZOFFSETFROM:+0200
TZOFFSETTO:+0100
TZNAME:CET
DTSTART:19701025T030000
RRULE:FREQ=YEARLY;BYDAY=-1SU;BYMONTH=10
END:STANDARD
END:VTIMEZONE
BEGIN:VEVENT
DTEND;TZID=Europe/Berlin:20261104T120000
UID:69ed67b808e9d
DTSTAMP:20260426T031744
LOCATION:Arnstein
DESCRIPTION:Werde selbst zum Zauberkünstler und verblüffe deine Familie und Freunde.\r\nLerne auf spielerische Art und Weise einige Zauberkunststücke zum mit nach Hause nehmen und erfahre dabei auch spannende Hintergründe der Zauberkunst. Mach mit ZaPPaloTT die ersten Schritte in die Welt der Geheimnisse\, um dein Publikum zum Staunen zu bringen - hautnah\, mit viel Spaß und Abwechslung. Zauberhafte Kartenmirakel\, springende Gummibänder und spurlos verschwindende Münzen. Ein Workshop zum Staunen\, Lachen und Träumen.
URL;VALUE=URI:https://www.unser-ferienprogramm.de/arnstein/veranstaltung.php?id=302772
SUMMARY:Zauber-Workshop mit ZaPPaloTT
DTSTART;TZID=Europe/Berlin:20261104T090000
END:VEVENT

END:VCALENDAR
