BEGIN:VCALENDAR
VERSION:2.0
PRODID:-//hacksw/handcal//NONSGML v1.0//EN
CALSCALE:GREGORIAN
BEGIN:VTIMEZONE
TZID:Europe/Berlin
X-LIC-LOCATION:Europe/Berlin
BEGIN:DAYLIGHT
TZOFFSETFROM:+0100
TZOFFSETTO:+0200
TZNAME:CEST
DTSTART:19700329T020000
RRULE:FREQ=YEARLY;BYDAY=-1SU;BYMONTH=3
END:DAYLIGHT
BEGIN:STANDARD
TZOFFSETFROM:+0200
TZOFFSETTO:+0100
TZNAME:CET
DTSTART:19701025T030000
RRULE:FREQ=YEARLY;BYDAY=-1SU;BYMONTH=10
END:STANDARD
END:VTIMEZONE
BEGIN:VEVENT
DTEND;TZID=Europe/Berlin:20260808T170000
UID:69ed667a4d52f
DTSTAMP:20260426T031226
LOCATION:Arnstein
DESCRIPTION:Mach dich bereit für eine Woche voller Action und Spaß beim bekannten "Dance Camp Arnstein". Erlebe den Team-Spirit in deiner Crew und lass dich vom Rhythmus der Musik mitreißen.\r\nEntscheide dich für deine Lieblingstanzrichtung und lass dich von erfahrenen TanztrainerInnen inspirieren.\r\nJetzt heißt es schnell sein und sich einen der begehrten Plätze sichern.\r\n\r\nTextilien:\r\nEs besteht die Möglichkeit T-Shirt/Hoodie „Dance-Camp Arnstein 2025“ zu bestellen. Nähere Infos hierzu folgen. 
URL;VALUE=URI:https://www.unser-ferienprogramm.de/arnstein/veranstaltung.php?id=250467
SUMMARY:Dance-Camp Teens 2026
DTSTART;TZID=Europe/Berlin:20260803T120000
END:VEVENT

END:VCALENDAR
