BEGIN:VCALENDAR
VERSION:2.0
PRODID:-//hacksw/handcal//NONSGML v1.0//EN
CALSCALE:GREGORIAN
BEGIN:VTIMEZONE
TZID:Europe/Berlin
X-LIC-LOCATION:Europe/Berlin
BEGIN:DAYLIGHT
TZOFFSETFROM:+0100
TZOFFSETTO:+0200
TZNAME:CEST
DTSTART:19700329T020000
RRULE:FREQ=YEARLY;BYDAY=-1SU;BYMONTH=3
END:DAYLIGHT
BEGIN:STANDARD
TZOFFSETFROM:+0200
TZOFFSETTO:+0100
TZNAME:CET
DTSTART:19701025T030000
RRULE:FREQ=YEARLY;BYDAY=-1SU;BYMONTH=10
END:STANDARD
END:VTIMEZONE
BEGIN:VEVENT
DTEND;TZID=Europe/Berlin:20260808T170000
UID:69ed660f32e75
DTSTAMP:20260426T031039
LOCATION:Arnstein
DESCRIPTION:Eine Woche voller Musik\, Bewegung und Teamspirit!\r\nFinde deinen Groove\, lerne neue Moves und wachse über dich hinaus – beim beliebten Dance-Camp in Arnstein. Entscheide dich für deinen Lieblings-Tanzstil und lass dich von erfahrenen Tanztrainer*innen inspirieren.\r\nSichere dir einen der begehrten Plätze!\r\n\r\nTextilien:\r\nEs besteht die Möglichkeit T-Shirt/Hoodie „Dance-Camp Arnstein 2026“ zu bestellen.\r\nNähere Infos hierzu folgen. 
URL;VALUE=URI:https://www.unser-ferienprogramm.de/arnstein/veranstaltung.php?id=250466
SUMMARY:Dance-Camp Kids 2026
DTSTART;TZID=Europe/Berlin:20260803T120000
END:VEVENT

END:VCALENDAR
