BEGIN:VCALENDAR
VERSION:2.0
PRODID:-//hacksw/handcal//NONSGML v1.0//EN
CALSCALE:GREGORIAN
BEGIN:VTIMEZONE
TZID:Europe/Berlin
X-LIC-LOCATION:Europe/Berlin
BEGIN:DAYLIGHT
TZOFFSETFROM:+0100
TZOFFSETTO:+0200
TZNAME:CEST
DTSTART:19700329T020000
RRULE:FREQ=YEARLY;BYDAY=-1SU;BYMONTH=3
END:DAYLIGHT
BEGIN:STANDARD
TZOFFSETFROM:+0200
TZOFFSETTO:+0100
TZNAME:CET
DTSTART:19701025T030000
RRULE:FREQ=YEARLY;BYDAY=-1SU;BYMONTH=10
END:STANDARD
END:VTIMEZONE
BEGIN:VEVENT
DTEND;TZID=Europe/Berlin:20260601T120000
UID:69ed6717b9212
DTSTAMP:20260426T031503
LOCATION:Arnstein
DESCRIPTION:\r\nMitmachzirkus für alle Kinder ab dem Vorschulalter.\r\n\r\ntägliches Training von 9:00 Uhr bis 12:00 Uhr\r\nMo bis Fr + Vorstellung am Freitagabend \r\n(Karten an der Abendkasse)
URL;VALUE=URI:https://www.unser-ferienprogramm.de/arnstein/veranstaltung.php?id=221612
SUMMARY:Ferienzirkus Lauenburger (2)
DTSTART;TZID=Europe/Berlin:20260601T090000
END:VEVENT


BEGIN:VEVENT
DTEND;TZID=Europe/Berlin:20260602T120000
UID:69ed6717b92511
DTSTAMP:20260426T031503
LOCATION:Arnstein
DESCRIPTION:\r\nMitmachzirkus für alle Kinder ab dem Vorschulalter.\r\n\r\ntägliches Training von 9:00 Uhr bis 12:00 Uhr\r\nMo bis Fr + Vorstellung am Freitagabend \r\n(Karten an der Abendkasse)
URL;VALUE=URI:https://www.unser-ferienprogramm.de/arnstein/veranstaltung.php?id=221612
SUMMARY:Ferienzirkus Lauenburger (2)
DTSTART;TZID=Europe/Berlin:20260602T090000
END:VEVENT


BEGIN:VEVENT
DTEND;TZID=Europe/Berlin:20260603T120000
UID:69ed6717b925d2
DTSTAMP:20260426T031503
LOCATION:Arnstein
DESCRIPTION:\r\nMitmachzirkus für alle Kinder ab dem Vorschulalter.\r\n\r\ntägliches Training von 9:00 Uhr bis 12:00 Uhr\r\nMo bis Fr + Vorstellung am Freitagabend \r\n(Karten an der Abendkasse)
URL;VALUE=URI:https://www.unser-ferienprogramm.de/arnstein/veranstaltung.php?id=221612
SUMMARY:Ferienzirkus Lauenburger (2)
DTSTART;TZID=Europe/Berlin:20260603T090000
END:VEVENT


BEGIN:VEVENT
DTEND;TZID=Europe/Berlin:20260604T120000
UID:69ed6717b92663
DTSTAMP:20260426T031503
LOCATION:Arnstein
DESCRIPTION:\r\nMitmachzirkus für alle Kinder ab dem Vorschulalter.\r\n\r\ntägliches Training von 9:00 Uhr bis 12:00 Uhr\r\nMo bis Fr + Vorstellung am Freitagabend \r\n(Karten an der Abendkasse)
URL;VALUE=URI:https://www.unser-ferienprogramm.de/arnstein/veranstaltung.php?id=221612
SUMMARY:Ferienzirkus Lauenburger (2)
DTSTART;TZID=Europe/Berlin:20260604T090000
END:VEVENT


BEGIN:VEVENT
DTEND;TZID=Europe/Berlin:20260605T120000
UID:69ed6717b926f4
DTSTAMP:20260426T031503
LOCATION:Arnstein
DESCRIPTION:\r\nMitmachzirkus für alle Kinder ab dem Vorschulalter.\r\n\r\ntägliches Training von 9:00 Uhr bis 12:00 Uhr\r\nMo bis Fr + Vorstellung am Freitagabend \r\n(Karten an der Abendkasse)
URL;VALUE=URI:https://www.unser-ferienprogramm.de/arnstein/veranstaltung.php?id=221612
SUMMARY:Ferienzirkus Lauenburger (2)
DTSTART;TZID=Europe/Berlin:20260605T090000
END:VEVENT

END:VCALENDAR
