BEGIN:VCALENDAR
VERSION:2.0
PRODID:-//hacksw/handcal//NONSGML v1.0//EN
CALSCALE:GREGORIAN
BEGIN:VTIMEZONE
TZID:Europe/Berlin
X-LIC-LOCATION:Europe/Berlin
BEGIN:DAYLIGHT
TZOFFSETFROM:+0100
TZOFFSETTO:+0200
TZNAME:CEST
DTSTART:19700329T020000
RRULE:FREQ=YEARLY;BYDAY=-1SU;BYMONTH=3
END:DAYLIGHT
BEGIN:STANDARD
TZOFFSETFROM:+0200
TZOFFSETTO:+0100
TZNAME:CET
DTSTART:19701025T030000
RRULE:FREQ=YEARLY;BYDAY=-1SU;BYMONTH=10
END:STANDARD
END:VTIMEZONE
BEGIN:VEVENT
DTEND;TZID=Europe/Berlin:20260525T120000
UID:69ed66801eed2
DTSTAMP:20260426T031232
LOCATION:Arnstein
DESCRIPTION:\r\nMitmachzirkus für alle Kinder ab dem Vorschulalter.\r\n\r\ntägliches Training von 9:00 Uhr bis 12:00 Uhr\r\nMo bis Fr + Vorstellung am Freitagabend \r\n(Karten an der Abendkasse)
URL;VALUE=URI:https://www.unser-ferienprogramm.de/arnstein/veranstaltung.php?id=220768
SUMMARY:Ferienzirkus Lauenburger (1)
DTSTART;TZID=Europe/Berlin:20260525T090000
END:VEVENT


BEGIN:VEVENT
DTEND;TZID=Europe/Berlin:20260526T120000
UID:69ed66801ef0e1
DTSTAMP:20260426T031232
LOCATION:Arnstein
DESCRIPTION:\r\nMitmachzirkus für alle Kinder ab dem Vorschulalter.\r\n\r\ntägliches Training von 9:00 Uhr bis 12:00 Uhr\r\nMo bis Fr + Vorstellung am Freitagabend \r\n(Karten an der Abendkasse)
URL;VALUE=URI:https://www.unser-ferienprogramm.de/arnstein/veranstaltung.php?id=220768
SUMMARY:Ferienzirkus Lauenburger (1)
DTSTART;TZID=Europe/Berlin:20260526T090000
END:VEVENT


BEGIN:VEVENT
DTEND;TZID=Europe/Berlin:20260527T120000
UID:69ed66801ef1a2
DTSTAMP:20260426T031232
LOCATION:Arnstein
DESCRIPTION:\r\nMitmachzirkus für alle Kinder ab dem Vorschulalter.\r\n\r\ntägliches Training von 9:00 Uhr bis 12:00 Uhr\r\nMo bis Fr + Vorstellung am Freitagabend \r\n(Karten an der Abendkasse)
URL;VALUE=URI:https://www.unser-ferienprogramm.de/arnstein/veranstaltung.php?id=220768
SUMMARY:Ferienzirkus Lauenburger (1)
DTSTART;TZID=Europe/Berlin:20260527T090000
END:VEVENT


BEGIN:VEVENT
DTEND;TZID=Europe/Berlin:20260528T120000
UID:69ed66801ef243
DTSTAMP:20260426T031232
LOCATION:Arnstein
DESCRIPTION:\r\nMitmachzirkus für alle Kinder ab dem Vorschulalter.\r\n\r\ntägliches Training von 9:00 Uhr bis 12:00 Uhr\r\nMo bis Fr + Vorstellung am Freitagabend \r\n(Karten an der Abendkasse)
URL;VALUE=URI:https://www.unser-ferienprogramm.de/arnstein/veranstaltung.php?id=220768
SUMMARY:Ferienzirkus Lauenburger (1)
DTSTART;TZID=Europe/Berlin:20260528T090000
END:VEVENT


BEGIN:VEVENT
DTEND;TZID=Europe/Berlin:20260529T120000
UID:69ed66801ef2d4
DTSTAMP:20260426T031232
LOCATION:Arnstein
DESCRIPTION:\r\nMitmachzirkus für alle Kinder ab dem Vorschulalter.\r\n\r\ntägliches Training von 9:00 Uhr bis 12:00 Uhr\r\nMo bis Fr + Vorstellung am Freitagabend \r\n(Karten an der Abendkasse)
URL;VALUE=URI:https://www.unser-ferienprogramm.de/arnstein/veranstaltung.php?id=220768
SUMMARY:Ferienzirkus Lauenburger (1)
DTSTART;TZID=Europe/Berlin:20260529T090000
END:VEVENT

END:VCALENDAR
