BEGIN:VCALENDAR
VERSION:2.0
PRODID:-//hacksw/handcal//NONSGML v1.0//EN
CALSCALE:GREGORIAN
BEGIN:VTIMEZONE
TZID:Europe/Berlin
X-LIC-LOCATION:Europe/Berlin
BEGIN:DAYLIGHT
TZOFFSETFROM:+0100
TZOFFSETTO:+0200
TZNAME:CEST
DTSTART:19700329T020000
RRULE:FREQ=YEARLY;BYDAY=-1SU;BYMONTH=3
END:DAYLIGHT
BEGIN:STANDARD
TZOFFSETFROM:+0200
TZOFFSETTO:+0100
TZNAME:CET
DTSTART:19701025T030000
RRULE:FREQ=YEARLY;BYDAY=-1SU;BYMONTH=10
END:STANDARD
END:VTIMEZONE
BEGIN:VEVENT
DTEND;TZID=Europe/Berlin:20260725T220000
UID:69eb1e9fbbecf
DTSTAMP:20260424T094119
LOCATION:Hohenburg
DESCRIPTION:Treffpunkt ist um 18:00 Uhr direkt in Hohenburg an der Kirche. Dort holt Thilo Wiesent (Landesbund für Vogelschutz e.V.\, Kreisgruppe Amberg-Sulzbach) die angemeldeten Teilnehmer und Teilnehmerinnen ab. Als besonderes Highlight werden als Erstes die Mausohren ganz oben im Kirchturm besucht. Anschließend geht es in das nur wenige Schritte entfernte Fledermaushaus. Alexander Gnatz (Fledermaushaus Hohenburg) und Thilo Wiesent erzählen und zeigen Wissenswertes über die Große Hufeisennase. Zum Abschluss beobachten alle den abendlichen Ausflug der Fledermäuse aus ihrer Unterkunft. Um die Wartezeit bis zum Ausflug zu überbrücken\, gibt es die Möglichkeit sich auf der (gleichzeitig stattfindenden) Kirwa mit Getränken und Bratwurstsemmeln zu stärken. Um ca. 22 Uhr endet die Veranstaltung im Fledermaushaus.\r\n\r\nKinder nur in Begleitung eines Erwachsenen!\r\nTeilnahme ab 6 Jahren möglich (bitte eigene Einschätzung zwecks der späten Uhrzeit)\r\n
URL;VALUE=URI:https://www.unser-ferienprogramm.de/amberg/veranstaltung.php?id=305867
SUMMARY:Fledermaushaus Hohenburg
DTSTART;TZID=Europe/Berlin:20260725T180000
END:VEVENT

END:VCALENDAR
