BEGIN:VCALENDAR
VERSION:2.0
PRODID:-//hacksw/handcal//NONSGML v1.0//EN
CALSCALE:GREGORIAN
BEGIN:VTIMEZONE
TZID:Europe/Berlin
X-LIC-LOCATION:Europe/Berlin
BEGIN:DAYLIGHT
TZOFFSETFROM:+0100
TZOFFSETTO:+0200
TZNAME:CEST
DTSTART:19700329T020000
RRULE:FREQ=YEARLY;BYDAY=-1SU;BYMONTH=3
END:DAYLIGHT
BEGIN:STANDARD
TZOFFSETFROM:+0200
TZOFFSETTO:+0100
TZNAME:CET
DTSTART:19701025T030000
RRULE:FREQ=YEARLY;BYDAY=-1SU;BYMONTH=10
END:STANDARD
END:VTIMEZONE
BEGIN:VEVENT
DTEND;TZID=Europe/Berlin:20260602T153000
UID:69e79e5e65e09
DTSTAMP:20260421T175718
LOCATION:Café im Jugendzentrum Klärwerk
DESCRIPTION:Das ist gar nicht so schwer: zwei Holzbretter\, ein paar Schrauben\, ein Akkubohrer...und schon kann es losgehen! Auch das Deckblatt deiner Blütenpresse kannst du ganz nach deinen Ideen kreativ gestalten. Außerdem gibt es noch ein paar Tipps und Tricks\, was du alles mit getrockneten Blüten und Blättern machen kannst. 
URL;VALUE=URI:https://www.unser-ferienprogramm.de/amberg/veranstaltung.php?id=301835
SUMMARY:Blütenpresse selbstgemacht - Nachmittag
DTSTART;TZID=Europe/Berlin:20260602T123000
END:VEVENT

END:VCALENDAR
