BEGIN:VCALENDAR
VERSION:2.0
PRODID:-//hacksw/handcal//NONSGML v1.0//EN
CALSCALE:GREGORIAN
BEGIN:VTIMEZONE
TZID:Europe/Berlin
X-LIC-LOCATION:Europe/Berlin
BEGIN:DAYLIGHT
TZOFFSETFROM:+0100
TZOFFSETTO:+0200
TZNAME:CEST
DTSTART:19700329T020000
RRULE:FREQ=YEARLY;BYDAY=-1SU;BYMONTH=3
END:DAYLIGHT
BEGIN:STANDARD
TZOFFSETFROM:+0200
TZOFFSETTO:+0100
TZNAME:CET
DTSTART:19701025T030000
RRULE:FREQ=YEARLY;BYDAY=-1SU;BYMONTH=10
END:STANDARD
END:VTIMEZONE
BEGIN:VEVENT
DTEND;TZID=Europe/Berlin:20260528T153000
UID:69e79e588151b
DTSTAMP:20260421T175712
LOCATION:K2 Aktivbad Kümmersbruck & Sportzentrum Kümmersbruck
DESCRIPTION:Du hast Lust auf Bewegung\, Action und Sport in den Ferien? \r\nDann ist unser Triathlon-Ferienprogramm genau das Richtige für dich! Wir der CIS-Amberg e.V.  laden sportbegeisterte Kinder und Jugendliche zu einem abwechslungsreichen Ferientag ein. Gemeinsam entdecken wir die drei Disziplinen des Triathlons – Schwimmen\, Radfahren und Laufen – mit Spaß\, Teamgeist und ohne Leistungsdruck. Wer Lust auf mehr bekommt\, kann das Erlernte beim Piratentriathlon in Amberg am 11.07.2026 ausprobieren.\r\n\r\nWANN: Donnerstag\, 28.05.2026\r\nZEITEN: 9.30 Uhr bis 15.30 Uhr\r\nORT: K2 Aktivbad & Sportzentrum Kümmersbruck\r\n\r\nTREFFPUNKT BEGINN: \r\nK2 Aktivbad Kümmersbruck\, Gabelsbergerstraße 20\, 92245 Kümmersbruck\r\nTreffpunkt Abholung: \r\nSportzentrum Kümmersbruck\, Am Butzenweg 35\, 92245 Kümmersbruck \r\n\r\nZIELGRUPPE\r\nKinder und Jugendliche im Alter von 8 - 16 Jahren \r\n(Die Kinder müssen sicher Schwimmen (mind. Brustschwimmen) und Radfahren können.\r\n\r\nINHALTE DES PROGRAMMS\r\nSchwimmtraining im Hallenbad\r\nLauftraining mit spielerischen Übungen\r\nRadtraining (Technik\, Ausdauer)\r\nKennenlernen des Triathlonsports\r\nSpiele\, Teamaufgaben und jede Menge Spaß\r\nDie Betreuung erfolgt durch qualifizierte Trainerinnen und Trainer des Vereins.\r\n\r\nMITZUBRINGEN\r\nSchwimmsachen (Schwimmbrille\, Badekleidung\, Handtuch)\r\nSportbekleidung \r\nverkehrssicheres Fahrrad & Helm\r\nSportschuhe / Turnschuhe und wetterangepasste Kleidung\r\nTrinkflasche (kein Glas) für Getränk\r\n\r\nKOSTEN\r\n25 Euro \r\nbeinhaltet Bad-Eintritt & Verpflegung (Getränke\, Mittagessen & Snack/Nachmittag)\r\n\r\nANMELDUNG\r\nAnmeldung bis 10.05.2026 unter:  jugend@cis-amberg.de\r\n\r\nBITTE BEI DER ANMELDUNG ANGEBEN: \r\nName\, Vorname\r\nAlter\r\nGgf. Hinweis auf Unverträglichkeiten\, Allergien\r\nNotfallkontakt / Telefonnummer \r\nEmail\r\n\r\nDie Teilnehmerzahl ist begrenzt.\r\n\r\nℹ️ KONTAKT & RÜCKFRAGEN\r\nCIS Amberg e.V. - Triathlon Jugendarbeit\r\nNorbert Luber & Tine Schardt - jugend@cis-amberg.de\r\nWir freuen uns auf einen sportlichen Ferientag mit vielen motivierten Teilnehmerinnen und Teilnehmern! CIS Amberg e.V. \r\n\r\n
URL;VALUE=URI:https://www.unser-ferienprogramm.de/amberg/veranstaltung.php?id=301779
SUMMARY:Lust auf Schwimmen\, Radeln & Laufen? Mach dich fit für den Piratentriathlon!
DTSTART;TZID=Europe/Berlin:20260528T093000
END:VEVENT

END:VCALENDAR
