BEGIN:VCALENDAR
VERSION:2.0
PRODID:-//hacksw/handcal//NONSGML v1.0//EN
CALSCALE:GREGORIAN
BEGIN:VTIMEZONE
TZID:Europe/Berlin
X-LIC-LOCATION:Europe/Berlin
BEGIN:DAYLIGHT
TZOFFSETFROM:+0100
TZOFFSETTO:+0200
TZNAME:CEST
DTSTART:19700329T020000
RRULE:FREQ=YEARLY;BYDAY=-1SU;BYMONTH=3
END:DAYLIGHT
BEGIN:STANDARD
TZOFFSETFROM:+0200
TZOFFSETTO:+0100
TZNAME:CET
DTSTART:19701025T030000
RRULE:FREQ=YEARLY;BYDAY=-1SU;BYMONTH=10
END:STANDARD
END:VTIMEZONE
BEGIN:VEVENT
DTEND;TZID=Europe/Berlin:20260602T150000
UID:69e79e5f430ef
DTSTAMP:20260421T175719
LOCATION:Prokart Raceland\, Wackersdorf
DESCRIPTION:Im Rahmen unseres Ferienprogramms besuchen wir die Kartbahn Prokart Raceland in Wackersdorf. Treffpunkt ist um 10:30 Uhr im Jugendzentrum Klärwerk in Amberg. Von dort fahren wir um 11:00 Uhr mit privaten Bussen los und erreichen die Anlage gegen 11:30 Uhr. Nach der Ankunft erhalten die Teilnehmenden eine Einweisung in die Karts\, bevor es für 30 Minuten auf die gemietete Strecke geht.\r\n\r\nHelme können kostenfrei vor Ort ausgeliehen werden. Aus hygienischen Gründen ist jedoch der Erwerb einer Unterziehhaube für 2 € verpflichtend. Eine eigene Unterziehhaube kann gerne mitgebracht werden. Zusätzlich muss vorab eine Rennlizenz zum Preis von 1 € erworben werden. Diese kann entweder am Veranstaltungstag gemeinsam vor Ort oder bereits im Voraus über die Homepage des Prokart Raceland gekauft werden (https://www.prokart-raceland.com/) . Bei einem Online-Kauf ist der erhaltene QR-Code am Veranstaltungstag mitzubringen. Bitte beachten Sie\, dass die Gebühr für die Rennlizenz bei einer möglichen Absage der Veranstaltung aufgrund zu geringer Teilnehmendenzahl nicht rückerstattet werden kann.\r\n\r\nNach der Fahrzeit ist im Restaurant der Anlage ein Tisch für unsere Gruppe reserviert. Dort besteht die Möglichkeit\, freiwillig und auf eigene Kosten Speisen und Getränke zu bestellen. Bitte entsprechend zusätzliches Geld mitgeben\, falls im Restaurant etwas gekauft werden möchte. Eigene Brotzeit darf im Restaurant nicht verzehrt werden. Gegen 14:30 Uhr treten wir die Rückfahrt an\, sodass wir voraussichtlich um 15:00 Uhr wieder am Jugendzentrum Klärwerk in Amberg eintreffen.
URL;VALUE=URI:https://www.unser-ferienprogramm.de/amberg/veranstaltung.php?id=301649
SUMMARY:Rennspaß beim Go-Kart
DTSTART;TZID=Europe/Berlin:20260602T103000
END:VEVENT

END:VCALENDAR
