BEGIN:VCALENDAR
VERSION:2.0
PRODID:-//hacksw/handcal//NONSGML v1.0//EN
CALSCALE:GREGORIAN
BEGIN:VTIMEZONE
TZID:Europe/Berlin
X-LIC-LOCATION:Europe/Berlin
BEGIN:DAYLIGHT
TZOFFSETFROM:+0100
TZOFFSETTO:+0200
TZNAME:CEST
DTSTART:19700329T020000
RRULE:FREQ=YEARLY;BYDAY=-1SU;BYMONTH=3
END:DAYLIGHT
BEGIN:STANDARD
TZOFFSETFROM:+0200
TZOFFSETTO:+0100
TZNAME:CET
DTSTART:19701025T030000
RRULE:FREQ=YEARLY;BYDAY=-1SU;BYMONTH=10
END:STANDARD
END:VTIMEZONE
BEGIN:VEVENT
DTEND;TZID=Europe/Berlin:20260605T160000
UID:69e79e95f3ebc
DTSTAMP:20260421T175813
LOCATION:Amberg
DESCRIPTION:Der CVJM Amberg e.V. bietet in den bayerischen Schulferien (Fasching\, Ostern\, Pfingsten\, Sommer\, Herbst und Buß- & Bettag eine Kinderbetreuung an.\r\nIn den Ferien heißt es für alle Kinder von 6 bis 12 Jahren\, Spiel\, Spaß\, Spannung & Gemeinschaft. Tgl. (außer Wochenende & feiertags) von 8:00 bis 16:00 Uhr (individuelle Bring- & Holzeiten nach Absprache möglich\, auch einzelne Wochenbuchung möglich) öffnen sich die Türen des Vereinshauses. Im Unkostenbeitrag (immer gesamter Zeitraum\; ermäßigte Preise für Geschwisterkinder & Mitglieder) ist die Betreuung durch erfahrenes Fachpersonal\, das Programm\, die (Bastel-) Materialien\, Mittagessen & Getränke\, Leitung sowie die Versicherung inbegriffen. Eine Teilnahme soll niemals am Geld scheitern\, bitte sprechen Sie das Organisationsteam an.\r\n
URL;VALUE=URI:https://www.unser-ferienprogramm.de/amberg/veranstaltung.php?id=301225
SUMMARY:Betreuung in den Pfingstferien
DTSTART;TZID=Europe/Berlin:20260526T080000
END:VEVENT

END:VCALENDAR
