BEGIN:VCALENDAR
VERSION:2.0
PRODID:-//hacksw/handcal//NONSGML v1.0//EN
CALSCALE:GREGORIAN
BEGIN:VTIMEZONE
TZID:Europe/Berlin
X-LIC-LOCATION:Europe/Berlin
BEGIN:DAYLIGHT
TZOFFSETFROM:+0100
TZOFFSETTO:+0200
TZNAME:CEST
DTSTART:19700329T020000
RRULE:FREQ=YEARLY;BYDAY=-1SU;BYMONTH=3
END:DAYLIGHT
BEGIN:STANDARD
TZOFFSETFROM:+0200
TZOFFSETTO:+0100
TZNAME:CET
DTSTART:19701025T030000
RRULE:FREQ=YEARLY;BYDAY=-1SU;BYMONTH=10
END:STANDARD
END:VTIMEZONE
BEGIN:VEVENT
DTEND;TZID=Europe/Berlin:20260523T230000
UID:69e79e95a5f8e
DTSTAMP:20260421T175813
LOCATION:Leipzig
DESCRIPTION:In Zusammenarbeit mit Graf´s Reisevergnügen bieten wir eine Busfahrt nach Leipzig in den dortigen Zoo an. Am Samstag\, 23. Mai 2026 starten wir in die Universitätsstadt Leipzig und in den dortigen Zoo. Kommen Sie mit nach Leipzig. Der Zoo zählt zu den artenreichsten und modernsten Zoos Europas. Im „Gondwanaland“ erwartet Sie eine riesige Tropenhalle\, in der man durch einen dichten Regenwald wandern kann. Hier leben exotische Tiere wie Faultiere\, Krokodile eingebettet in eine beeindruckende Pflanzenwelt. Sie lieben Menschenaffen wie Gorillas\, Schimpansen\, Bonobos und Orang-Utans? Dann ist das „Pongoland“ genau das Richtige. Begeben Sie sich auf Entdeckungsreise in der „Afrika-Savanne“. Majestätische Tiere wie Giraffen\, Zebras\, Nashörner und Löwen können in der naturnah gestalteten Landschaft aus nächster Nähe beobachtet werden. Fühlen Sie sich wie auf einer Safari. „Asien“ lädt ein in die Welt von Elefanten\, Tigern und anderen asiatischen Tierarten einzutauchen. Auch der „Gründer-Garten“ und das „Südamerika“-Areal bieten viel Interessantes. Hier\r\nbegegnen Sie unter anderem Pinguine\, Flamingos\, Tapire und Ameisenbären. Der Leipziger Zoo ist ein einmaligen Erlebnis für die ganze Familie.
URL;VALUE=URI:https://www.unser-ferienprogramm.de/amberg/veranstaltung.php?id=301204
SUMMARY:Busausflug nach Leipzig
DTSTART;TZID=Europe/Berlin:20260523T000100
END:VEVENT

END:VCALENDAR
