BEGIN:VCALENDAR
VERSION:2.0
PRODID:-//hacksw/handcal//NONSGML v1.0//EN
CALSCALE:GREGORIAN
BEGIN:VTIMEZONE
TZID:Europe/Berlin
X-LIC-LOCATION:Europe/Berlin
BEGIN:DAYLIGHT
TZOFFSETFROM:+0100
TZOFFSETTO:+0200
TZNAME:CEST
DTSTART:19700329T020000
RRULE:FREQ=YEARLY;BYDAY=-1SU;BYMONTH=3
END:DAYLIGHT
BEGIN:STANDARD
TZOFFSETFROM:+0200
TZOFFSETTO:+0100
TZNAME:CET
DTSTART:19701025T030000
RRULE:FREQ=YEARLY;BYDAY=-1SU;BYMONTH=10
END:STANDARD
END:VTIMEZONE
BEGIN:VEVENT
DTEND;TZID=Europe/Berlin:20260522T170000
UID:69e79e5717e89
DTSTAMP:20260421T175711
LOCATION:Dekan-Hirtreiter-Str. 5
DESCRIPTION:Am 22.05.2026 lädt dieses Jahr der Familienstützpunkt im Bürgertreff Amberg e.V.  zum jährlichen Spielenachmittag im Sebastianviertel ein. Von 14 bis 17 Uhr garantieren Aktionsstände u.a. mit Kinderschminken sowie vielen Spiel-\, Kreativ und Bewegungsangeboten wieder viel Spaß zum Ferienbeginn. Außerdem freuen sich u.a. die Kindertanzgruppe des Bürgertreffs bei einem kleinen Auftritt ihr Können zu zeigen. Kommt vorbei. Wir freuen uns auf euch!\r\n\r\n
URL;VALUE=URI:https://www.unser-ferienprogramm.de/amberg/veranstaltung.php?id=301112
SUMMARY:Spielenachmittag im Sebastianviertel
DTSTART;TZID=Europe/Berlin:20260522T140000
END:VEVENT

END:VCALENDAR
