BEGIN:VCALENDAR
VERSION:2.0
PRODID:-//hacksw/handcal//NONSGML v1.0//EN
CALSCALE:GREGORIAN
BEGIN:VTIMEZONE
TZID:Europe/Berlin
X-LIC-LOCATION:Europe/Berlin
BEGIN:DAYLIGHT
TZOFFSETFROM:+0100
TZOFFSETTO:+0200
TZNAME:CEST
DTSTART:19700329T020000
RRULE:FREQ=YEARLY;BYDAY=-1SU;BYMONTH=3
END:DAYLIGHT
BEGIN:STANDARD
TZOFFSETFROM:+0200
TZOFFSETTO:+0100
TZNAME:CET
DTSTART:19701025T030000
RRULE:FREQ=YEARLY;BYDAY=-1SU;BYMONTH=10
END:STANDARD
END:VTIMEZONE
BEGIN:VEVENT
DTEND;TZID=Europe/Berlin:20260609T170000
UID:69e79ea91b0aa
DTSTAMP:20260421T175833
LOCATION:Zeughausstr. 1 a\, 92224 Amberg
DESCRIPTION:Bob18 erwacht auf einer einsamen Insel. Was macht er hier und warum hat er solche Kopfschmerzen? Und was will dieses Schwein von ihm\, das ihn unaufhörlich herumkommandiert? Eine witzige Geschichte für Minecrafter.
URL;VALUE=URI:https://www.unser-ferienprogramm.de/amberg/veranstaltung.php?id=300920
SUMMARY:"Bob 18 und das Schwein namens Donnerstag"
DTSTART;TZID=Europe/Berlin:20260609T153000
END:VEVENT

END:VCALENDAR
