BEGIN:VCALENDAR
VERSION:2.0
PRODID:-//hacksw/handcal//NONSGML v1.0//EN
CALSCALE:GREGORIAN
BEGIN:VTIMEZONE
TZID:Europe/Berlin
X-LIC-LOCATION:Europe/Berlin
BEGIN:DAYLIGHT
TZOFFSETFROM:+0100
TZOFFSETTO:+0200
TZNAME:CEST
DTSTART:19700329T020000
RRULE:FREQ=YEARLY;BYDAY=-1SU;BYMONTH=3
END:DAYLIGHT
BEGIN:STANDARD
TZOFFSETFROM:+0200
TZOFFSETTO:+0100
TZNAME:CET
DTSTART:19701025T030000
RRULE:FREQ=YEARLY;BYDAY=-1SU;BYMONTH=10
END:STANDARD
END:VTIMEZONE
BEGIN:VEVENT
DTEND;TZID=Europe/Berlin:20260603T173000
UID:69e79eaebf144
DTSTAMP:20260421T175838
LOCATION:Zeughausstr. 1 a\, 92224 Amberg
DESCRIPTION:Euch erwartet ein cooles Turnier an der Nintendo-Switch-Konsole. Immer 4 Gamer spielen gegeneinander.
URL;VALUE=URI:https://www.unser-ferienprogramm.de/amberg/veranstaltung.php?id=300913
SUMMARY:"Mario Kart"-Turnier
DTSTART;TZID=Europe/Berlin:20260603T153000
END:VEVENT

END:VCALENDAR
