BEGIN:VCALENDAR
VERSION:2.0
PRODID:-//hacksw/handcal//NONSGML v1.0//EN
CALSCALE:GREGORIAN
BEGIN:VTIMEZONE
TZID:Europe/Berlin
X-LIC-LOCATION:Europe/Berlin
BEGIN:DAYLIGHT
TZOFFSETFROM:+0100
TZOFFSETTO:+0200
TZNAME:CEST
DTSTART:19700329T020000
RRULE:FREQ=YEARLY;BYDAY=-1SU;BYMONTH=3
END:DAYLIGHT
BEGIN:STANDARD
TZOFFSETFROM:+0200
TZOFFSETTO:+0100
TZNAME:CET
DTSTART:19701025T030000
RRULE:FREQ=YEARLY;BYDAY=-1SU;BYMONTH=10
END:STANDARD
END:VTIMEZONE
BEGIN:VEVENT
DTEND;TZID=Europe/Berlin:20260527T150000
UID:69e79e5f899f0
DTSTAMP:20260421T175719
LOCATION:Stadtmuseum Amberg
DESCRIPTION:Wir begeben uns auf eine Reise zu Linien\, Formen und Kompositionen – gemeinsam mit einem kleinen Hilfsmittel\, dem Motivsucher. Er hilft uns\, unsere liebsten Bildausschnitte genau zu entdecken und dabei mehr über das Sehen und den Bildaufbau zu lernen. Welche Elemente erzeugen Spannung und machen ein Werk interessant? \r\nDas Gesehene skizzieren wir direkt in der Ausstellung: wir kritzeln\, vereinfachen (abstrahieren) oder zeichnen genau. Anschließend entstehen mit Farben und Buntstiften eigene Kunstwerke.\r\n
URL;VALUE=URI:https://www.unser-ferienprogramm.de/amberg/veranstaltung.php?id=300730
SUMMARY:Entdecke und abstrahiere: Der Motivsucher
DTSTART;TZID=Europe/Berlin:20260527T130000
END:VEVENT

END:VCALENDAR
