BEGIN:VCALENDAR
VERSION:2.0
PRODID:-//hacksw/handcal//NONSGML v1.0//EN
CALSCALE:GREGORIAN
BEGIN:VTIMEZONE
TZID:Europe/Berlin
X-LIC-LOCATION:Europe/Berlin
BEGIN:DAYLIGHT
TZOFFSETFROM:+0100
TZOFFSETTO:+0200
TZNAME:CEST
DTSTART:19700329T020000
RRULE:FREQ=YEARLY;BYDAY=-1SU;BYMONTH=3
END:DAYLIGHT
BEGIN:STANDARD
TZOFFSETFROM:+0200
TZOFFSETTO:+0100
TZNAME:CET
DTSTART:19701025T030000
RRULE:FREQ=YEARLY;BYDAY=-1SU;BYMONTH=10
END:STANDARD
END:VTIMEZONE
BEGIN:VEVENT
DTEND;TZID=Europe/Berlin:20260526T150000
UID:69e79ead48675
DTSTAMP:20260421T175837
LOCATION:Stadtmuseum Amberg
DESCRIPTION:Wir wollen mit euch unsere neue Mini-Druckpresse ausprobieren – von der Idee bis zum fertigen Druck. Dafür stehen alle notwendigen Materialien und Werkzeuge bereit: Milchkarton\, Ritzwerkzeuge und eine Handpresse\, die wir im Museum selbst gebaut haben – mit einem Open-Source-Bausatz und unserem 3D-Drucker.\r\n\r\nDer haushaltsübliche Milchkarton/Tetra Pak lässt sich hervorragend als Druckplatte recyclen. In die mit Aluminium beschichtete Innenseite\, lassen sich alle möglichen Motive ritzen und schneiden.
URL;VALUE=URI:https://www.unser-ferienprogramm.de/amberg/veranstaltung.php?id=300724
SUMMARY:Druckwerkstatt: Experimentieren mit Milchkarton & Mini-Handpresse
DTSTART;TZID=Europe/Berlin:20260526T130000
END:VEVENT

END:VCALENDAR
