BEGIN:VCALENDAR
VERSION:2.0
PRODID:-//hacksw/handcal//NONSGML v1.0//EN
CALSCALE:GREGORIAN
BEGIN:VTIMEZONE
TZID:Europe/Berlin
X-LIC-LOCATION:Europe/Berlin
BEGIN:DAYLIGHT
TZOFFSETFROM:+0100
TZOFFSETTO:+0200
TZNAME:CEST
DTSTART:19700329T020000
RRULE:FREQ=YEARLY;BYDAY=-1SU;BYMONTH=3
END:DAYLIGHT
BEGIN:STANDARD
TZOFFSETFROM:+0200
TZOFFSETTO:+0100
TZNAME:CET
DTSTART:19701025T030000
RRULE:FREQ=YEARLY;BYDAY=-1SU;BYMONTH=10
END:STANDARD
END:VTIMEZONE
BEGIN:VEVENT
DTEND;TZID=Europe/Berlin:20260529T160000
UID:69e79e57edbda
DTSTAMP:20260421T175711
LOCATION:Amselweg 7a\, 92224 Amberg
DESCRIPTION:Ferienbetreuung für Kinder ab dem Grundschuleintritt. \r\nDie Preise sind individuell\, bitte telefonisch oder per E-Mail anfragen. Die Gebühr beinhaltet die Verpflegung sowie alle Veranstaltungen. 
URL;VALUE=URI:https://www.unser-ferienprogramm.de/amberg/veranstaltung.php?id=300552
SUMMARY:Ferienbetreuung 
DTSTART;TZID=Europe/Berlin:20260526T073000
END:VEVENT

END:VCALENDAR
