BEGIN:VCALENDAR
VERSION:2.0
PRODID:-//hacksw/handcal//NONSGML v1.0//EN
CALSCALE:GREGORIAN
BEGIN:VTIMEZONE
TZID:Europe/Berlin
X-LIC-LOCATION:Europe/Berlin
BEGIN:DAYLIGHT
TZOFFSETFROM:+0100
TZOFFSETTO:+0200
TZNAME:CEST
DTSTART:19700329T020000
RRULE:FREQ=YEARLY;BYDAY=-1SU;BYMONTH=3
END:DAYLIGHT
BEGIN:STANDARD
TZOFFSETFROM:+0200
TZOFFSETTO:+0100
TZNAME:CET
DTSTART:19701025T030000
RRULE:FREQ=YEARLY;BYDAY=-1SU;BYMONTH=10
END:STANDARD
END:VTIMEZONE
BEGIN:VEVENT
DTEND;TZID=Europe/Berlin:20260603T113000
UID:69e79e952d03a
DTSTAMP:20260421T175813
LOCATION:Viehmarkt 1\, 92224 Amberg
DESCRIPTION:Wir gestalten Wickelfische als Mobile. Aus Draht\, Wolle und Bastelaugen wickeln wir kreative\, bunte Fische - ganz nach deiner Phantasie! Ein einzigartiges Mobile ist das Ergebnis deiner Bastelaktion.
URL;VALUE=URI:https://www.unser-ferienprogramm.de/amberg/veranstaltung.php?id=299927
SUMMARY:PfingstWerkstatt
DTSTART;TZID=Europe/Berlin:20260603T100000
END:VEVENT

END:VCALENDAR
