BEGIN:VCALENDAR
VERSION:2.0
PRODID:-//hacksw/handcal//NONSGML v1.0//EN
CALSCALE:GREGORIAN
BEGIN:VTIMEZONE
TZID:Europe/Berlin
X-LIC-LOCATION:Europe/Berlin
BEGIN:DAYLIGHT
TZOFFSETFROM:+0100
TZOFFSETTO:+0200
TZNAME:CEST
DTSTART:19700329T020000
RRULE:FREQ=YEARLY;BYDAY=-1SU;BYMONTH=3
END:DAYLIGHT
BEGIN:STANDARD
TZOFFSETFROM:+0200
TZOFFSETTO:+0100
TZNAME:CET
DTSTART:19701025T030000
RRULE:FREQ=YEARLY;BYDAY=-1SU;BYMONTH=10
END:STANDARD
END:VTIMEZONE
BEGIN:VEVENT
DTEND;TZID=Europe/Berlin:20260530T123000
UID:69e79e5d89d2c
DTSTAMP:20260421T175717
LOCATION:Eichenforstgässchen 12 in 92224 Amberg
DESCRIPTION:Das innovative Bildungsprogramm „Bionics4Education“ verbindet hierbei analoges und digitales Lernen durch praxisnahe Bausätze. Ziel ist es junge Menschen für Bionik und MINT-Themen\, also Mathematik\, Informatik\, Naturwissenschaften und Technik zu begeistern. Beim Bau eines Roboters\, ganz nach dem Vorbild der Natur\, stehen Kreativität\, Problemlösung und bionisch inspiriertes Denken im Mittelpunkt. \r\n\r\n\r\n\r\n\r\n\r\n
URL;VALUE=URI:https://www.unser-ferienprogramm.de/amberg/veranstaltung.php?id=299700
SUMMARY:Technik-Workshop "Bionics4Education" für junge Menschen 
DTSTART;TZID=Europe/Berlin:20260530T093000
END:VEVENT

END:VCALENDAR
