BEGIN:VCALENDAR
VERSION:2.0
PRODID:-//hacksw/handcal//NONSGML v1.0//EN
CALSCALE:GREGORIAN
BEGIN:VTIMEZONE
TZID:Europe/Berlin
X-LIC-LOCATION:Europe/Berlin
BEGIN:DAYLIGHT
TZOFFSETFROM:+0100
TZOFFSETTO:+0200
TZNAME:CEST
DTSTART:19700329T020000
RRULE:FREQ=YEARLY;BYDAY=-1SU;BYMONTH=3
END:DAYLIGHT
BEGIN:STANDARD
TZOFFSETFROM:+0200
TZOFFSETTO:+0100
TZNAME:CET
DTSTART:19701025T030000
RRULE:FREQ=YEARLY;BYDAY=-1SU;BYMONTH=10
END:STANDARD
END:VTIMEZONE
BEGIN:VEVENT
DTEND;TZID=Europe/Berlin:20260801T150000
UID:69e656ce4ffd3
DTSTAMP:20260420T183942
LOCATION:Atzlrichter Weg 101\, 92224 Amberg
DESCRIPTION:Racing Day - Jugendtag des MRSC Amberg e.V.\r\n\r\nFahren wie die Profis im Maßstab 1:10.\r\n\r\nDer Modell-Renn-Sport-Club Amberg lädt begeisterte\, jugendliche Modellautofahrer wieder zum diesjährigen Racing Day auf dem Vereinsgelände in Atzlricht ein.\r\n\r\nWir beginnen im Fahrerlager mit der Vorbereitung der Fahrzeuge und einer Einweisung in die Funktionen. Danach starten wir mit den ersten Fahrübungen. Sobald du ein Gefühl für den Tourenwagen zeigst\, steigern wir die Geschwindigkeit\, um dein Handling immer mehr zu verbessern\, bis dir deine Perfekte Runde mit dem RC-Car gelingt. \r\nNach einem Stopp in der Boxengasse und einer kleinen Verpflegung\, gehen wir in den Rennbetrieb mit Zeitmessung über.\r\nParallel gibt es im Fahrerlager Infos zum Reglement der Vereinsklasse\, zur Fahrwerkseinstellung\, zum Laden von Batterien und dem Tuning an Modellrennautos.\r\n\r\nUnsere erfahrenen Rennfahrer und Nachwuchsfahrer aus der Jugendabteilung unterstützen und begleiten euch während des Racing Days.\r\n
URL;VALUE=URI:https://www.unser-ferienprogramm.de/amberg/veranstaltung.php?id=195409
SUMMARY:Racing Day - Jugendtag des MRSC Amberg e.V.
DTSTART;TZID=Europe/Berlin:20260801T100000
END:VEVENT

END:VCALENDAR
