BEGIN:VCALENDAR
VERSION:2.0
PRODID:-//hacksw/handcal//NONSGML v1.0//EN
CALSCALE:GREGORIAN
BEGIN:VTIMEZONE
TZID:Europe/Berlin
X-LIC-LOCATION:Europe/Berlin
BEGIN:DAYLIGHT
TZOFFSETFROM:+0100
TZOFFSETTO:+0200
TZNAME:CEST
DTSTART:19700329T020000
RRULE:FREQ=YEARLY;BYDAY=-1SU;BYMONTH=3
END:DAYLIGHT
BEGIN:STANDARD
TZOFFSETFROM:+0200
TZOFFSETTO:+0100
TZNAME:CET
DTSTART:19701025T030000
RRULE:FREQ=YEARLY;BYDAY=-1SU;BYMONTH=10
END:STANDARD
END:VTIMEZONE
BEGIN:VEVENT
DTEND;TZID=Europe/Berlin:20260527T173000
UID:69e79ea682626
DTSTAMP:20260421T175830
LOCATION:Bruno-Hofer-Str. 8\, 92224 Amberg
DESCRIPTION:Jeden Mittwoch findet im Jugendzentrum Klärwerk von 15:30 Uhr bis 17:30 Uhr das Kindercafé für alle 6- bis 12-Jährigen statt.\r\nDas heutige Programm: Spitzenköche. Hier wird gerührt\, gebacken und dekoriert - die Kinder zaubern ihre eigenen süßen Muffin-Kunstwerke
URL;VALUE=URI:https://www.unser-ferienprogramm.de/amberg/veranstaltung.php?id=156260
SUMMARY:Kindercafé
DTSTART;TZID=Europe/Berlin:20260527T153000
END:VEVENT

END:VCALENDAR
